BEGIN:VCALENDAR
VERSION:2.0
PRODID:-//Ville de Boulay-Moselle - ECPv6.3.2//NONSGML v1.0//EN
CALSCALE:GREGORIAN
METHOD:PUBLISH
X-WR-CALNAME:Ville de Boulay-Moselle
X-ORIGINAL-URL:https://boulay-moselle.fr
X-WR-CALDESC:évènements pour Ville de Boulay-Moselle
REFRESH-INTERVAL;VALUE=DURATION:PT1H
X-Robots-Tag:noindex
X-PUBLISHED-TTL:PT1H
BEGIN:VTIMEZONE
TZID:Europe/Paris
BEGIN:DAYLIGHT
TZOFFSETFROM:+0100
TZOFFSETTO:+0200
TZNAME:CEST
DTSTART:20240331T010000
END:DAYLIGHT
BEGIN:STANDARD
TZOFFSETFROM:+0200
TZOFFSETTO:+0100
TZNAME:CET
DTSTART:20241027T010000
END:STANDARD
END:VTIMEZONE
BEGIN:VEVENT
DTSTART;TZID=Europe/Paris:20241110T120000
DTEND;TZID=Europe/Paris:20241110T150000
DTSTAMP:20260423T171727
CREATED:20240923T064744Z
LAST-MODIFIED:20241030T070216Z
UID:9136-1731240000-1731250800@boulay-moselle.fr
SUMMARY:Repas Moules-Frites
DESCRIPTION:
URL:https://boulay-moselle.fr/event/repas-moules-frites-2/
LOCATION:Salle St-Etienne\, Place Jean XXIII\, BOULAY\, 57220\, France
CATEGORIES:ville
END:VEVENT
BEGIN:VEVENT
DTSTART;TZID=Europe/Paris:20241110T183000
DTEND;TZID=Europe/Paris:20241110T190000
DTSTAMP:20260423T171727
CREATED:20240923T064909Z
LAST-MODIFIED:20241030T074535Z
UID:9138-1731263400-1731265200@boulay-moselle.fr
SUMMARY:Cérémonie commémorative du 11 novembre
DESCRIPTION:
URL:https://boulay-moselle.fr/event/ceremonie-commemorative-du-11-novembre-2/
LOCATION:Devant le Monument aux Morts
CATEGORIES:ville
END:VEVENT
END:VCALENDAR