BEGIN:VCALENDAR
VERSION:2.0
PRODID:-//Ville de Boulay-Moselle - ECPv6.3.2//NONSGML v1.0//EN
CALSCALE:GREGORIAN
METHOD:PUBLISH
X-ORIGINAL-URL:https://boulay-moselle.fr
X-WR-CALDESC:évènements pour Ville de Boulay-Moselle
REFRESH-INTERVAL;VALUE=DURATION:PT1H
X-Robots-Tag:noindex
X-PUBLISHED-TTL:PT1H
BEGIN:VTIMEZONE
TZID:Europe/Paris
BEGIN:DAYLIGHT
TZOFFSETFROM:+0100
TZOFFSETTO:+0200
TZNAME:CEST
DTSTART:20250330T010000
END:DAYLIGHT
BEGIN:STANDARD
TZOFFSETFROM:+0200
TZOFFSETTO:+0100
TZNAME:CET
DTSTART:20251026T010000
END:STANDARD
END:VTIMEZONE
BEGIN:VEVENT
DTSTART;TZID=Europe/Paris:20250216T130000
DTEND;TZID=Europe/Paris:20250216T170000
DTSTAMP:20260419T172442
CREATED:20241223T123852Z
LAST-MODIFIED:20250120T091310Z
UID:9468-1739710800-1739725200@boulay-moselle.fr
SUMMARY:Loto
DESCRIPTION:
URL:https://boulay-moselle.fr/event/loto-3/
LOCATION:Salle omnisports – Complexe Isabelle Wendling\, route de Bouzonville\, BOULAY\, 57220\, France
CATEGORIES:ville
ORGANIZER;CN="CAB":MAILTO:boulay.ca@moselle.lgef.fr
END:VEVENT
END:VCALENDAR