BEGIN:VCALENDAR
VERSION:2.0
PRODID:-//Ville de Boulay-Moselle - ECPv6.3.2//NONSGML v1.0//EN
CALSCALE:GREGORIAN
METHOD:PUBLISH
X-WR-CALNAME:Ville de Boulay-Moselle
X-ORIGINAL-URL:https://boulay-moselle.fr
X-WR-CALDESC:évènements pour Ville de Boulay-Moselle
REFRESH-INTERVAL;VALUE=DURATION:PT1H
X-Robots-Tag:noindex
X-PUBLISHED-TTL:PT1H
BEGIN:VTIMEZONE
TZID:Europe/Paris
BEGIN:DAYLIGHT
TZOFFSETFROM:+0100
TZOFFSETTO:+0200
TZNAME:CEST
DTSTART:20250330T010000
END:DAYLIGHT
BEGIN:STANDARD
TZOFFSETFROM:+0200
TZOFFSETTO:+0100
TZNAME:CET
DTSTART:20251026T010000
END:STANDARD
END:VTIMEZONE
BEGIN:VEVENT
DTSTART;TZID=Europe/Paris:20250329T100000
DTEND;TZID=Europe/Paris:20250329T120000
DTSTAMP:20260425T162548
CREATED:20250317T065949Z
LAST-MODIFIED:20250317T065949Z
UID:9713-1743242400-1743249600@boulay-moselle.fr
SUMMARY:Conférence
DESCRIPTION:
URL:https://boulay-moselle.fr/event/conference-3/
LOCATION:collège Demange
CATEGORIES:ville
END:VEVENT
BEGIN:VEVENT
DTSTART;TZID=Europe/Paris:20250329T193000
DTEND;TZID=Europe/Paris:20250329T233000
DTSTAMP:20260425T162548
CREATED:20250303T102302Z
LAST-MODIFIED:20250303T102302Z
UID:9650-1743276600-1743291000@boulay-moselle.fr
SUMMARY:Bal des agriculteurs
DESCRIPTION:
URL:https://boulay-moselle.fr/event/bal-des-agriculteurs/
LOCATION:salle polyvalente – complexe Isabelle Wendling\, route de Bouzonville\, BOULAY\, 57220\, France
CATEGORIES:ville
END:VEVENT
BEGIN:VEVENT
DTSTART;TZID=Europe/Paris:20250329T200000
DTEND;TZID=Europe/Paris:20250329T213000
DTSTAMP:20260425T162548
CREATED:20250310T072543Z
LAST-MODIFIED:20250310T072543Z
UID:9682-1743278400-1743283800@boulay-moselle.fr
SUMMARY:Théâtre
DESCRIPTION:
URL:https://boulay-moselle.fr/event/theatre-3/
LOCATION:Salle St-Etienne\, Place Jean XXIII\, BOULAY\, 57220\, France
CATEGORIES:ville
END:VEVENT
END:VCALENDAR