BEGIN:VCALENDAR
VERSION:2.0
PRODID:-//Ville de Boulay-Moselle - ECPv6.3.2//NONSGML v1.0//EN
CALSCALE:GREGORIAN
METHOD:PUBLISH
X-ORIGINAL-URL:https://boulay-moselle.fr
X-WR-CALDESC:évènements pour Ville de Boulay-Moselle
REFRESH-INTERVAL;VALUE=DURATION:PT1H
X-Robots-Tag:noindex
X-PUBLISHED-TTL:PT1H
BEGIN:VTIMEZONE
TZID:Europe/Paris
BEGIN:DAYLIGHT
TZOFFSETFROM:+0100
TZOFFSETTO:+0200
TZNAME:CEST
DTSTART:20250330T010000
END:DAYLIGHT
BEGIN:STANDARD
TZOFFSETFROM:+0200
TZOFFSETTO:+0100
TZNAME:CET
DTSTART:20251026T010000
END:STANDARD
END:VTIMEZONE
BEGIN:VEVENT
DTSTART;TZID=Europe/Paris:20250503T090000
DTEND;TZID=Europe/Paris:20250503T170000
DTSTAMP:20260423T190635
CREATED:20250324T073430Z
LAST-MODIFIED:20250324T073430Z
UID:9734-1746262800-1746291600@boulay-moselle.fr
SUMMARY:Salon de la Petite Enfance
DESCRIPTION:
URL:https://boulay-moselle.fr/event/salon-de-la-petite-enfance/
LOCATION:Complexe Isabelle Wendling\, route de Bouzonville\, BOULAY-MOSELLE\, 57220\, France
CATEGORIES:ville
END:VEVENT
END:VCALENDAR