BEGIN:VCALENDAR
VERSION:2.0
PRODID:-//Ville de Boulay-Moselle - ECPv6.3.2//NONSGML v1.0//EN
CALSCALE:GREGORIAN
METHOD:PUBLISH
X-ORIGINAL-URL:https://boulay-moselle.fr
X-WR-CALDESC:évènements pour Ville de Boulay-Moselle
REFRESH-INTERVAL;VALUE=DURATION:PT1H
X-Robots-Tag:noindex
X-PUBLISHED-TTL:PT1H
BEGIN:VTIMEZONE
TZID:Europe/Paris
BEGIN:DAYLIGHT
TZOFFSETFROM:+0100
TZOFFSETTO:+0200
TZNAME:CEST
DTSTART:20250330T010000
END:DAYLIGHT
BEGIN:STANDARD
TZOFFSETFROM:+0200
TZOFFSETTO:+0100
TZNAME:CET
DTSTART:20251026T010000
END:STANDARD
END:VTIMEZONE
BEGIN:VEVENT
DTSTART;TZID=Europe/Paris:20250507T190000
DTEND;TZID=Europe/Paris:20250507T210000
DTSTAMP:20260425T162607
CREATED:20250331T112710Z
LAST-MODIFIED:20250331T112710Z
UID:9781-1746644400-1746651600@boulay-moselle.fr
SUMMARY:pièce de théâtre "Chahut au ministère"
DESCRIPTION:
URL:https://boulay-moselle.fr/event/piece-de-theatre-chahut-au-ministere/
LOCATION:Salle St-Etienne\, Place Jean XXIII\, BOULAY\, 57220\, France
CATEGORIES:ville
END:VEVENT
END:VCALENDAR