BEGIN:VCALENDAR
VERSION:2.0
PRODID:-//Ville de Boulay-Moselle - ECPv6.3.2//NONSGML v1.0//EN
CALSCALE:GREGORIAN
METHOD:PUBLISH
X-WR-CALNAME:Ville de Boulay-Moselle
X-ORIGINAL-URL:https://boulay-moselle.fr
X-WR-CALDESC:évènements pour Ville de Boulay-Moselle
REFRESH-INTERVAL;VALUE=DURATION:PT1H
X-Robots-Tag:noindex
X-PUBLISHED-TTL:PT1H
BEGIN:VTIMEZONE
TZID:Europe/Paris
BEGIN:DAYLIGHT
TZOFFSETFROM:+0100
TZOFFSETTO:+0200
TZNAME:CEST
DTSTART:20250330T010000
END:DAYLIGHT
BEGIN:STANDARD
TZOFFSETFROM:+0200
TZOFFSETTO:+0100
TZNAME:CET
DTSTART:20251026T010000
END:STANDARD
END:VTIMEZONE
BEGIN:VEVENT
DTSTART;TZID=Europe/Paris:20250521T093000
DTEND;TZID=Europe/Paris:20250521T160000
DTSTAMP:20260423T190332
CREATED:20250512T095903Z
LAST-MODIFIED:20250512T095903Z
UID:9861-1747819800-1747843200@boulay-moselle.fr
SUMMARY:Fête du Jardin'Âges et de la Nature
DESCRIPTION:
URL:https://boulay-moselle.fr/event/fete-du-jardinages-et-de-la-nature/
LOCATION:Maison du Département\, 6 rue Robert Schuman\, BOULAY\, 57220\, France
CATEGORIES:ville
END:VEVENT
END:VCALENDAR