BEGIN:VCALENDAR
VERSION:2.0
PRODID:-//Ville de Boulay-Moselle - ECPv6.3.2//NONSGML v1.0//EN
CALSCALE:GREGORIAN
METHOD:PUBLISH
X-ORIGINAL-URL:https://boulay-moselle.fr
X-WR-CALDESC:évènements pour Ville de Boulay-Moselle
REFRESH-INTERVAL;VALUE=DURATION:PT1H
X-Robots-Tag:noindex
X-PUBLISHED-TTL:PT1H
BEGIN:VTIMEZONE
TZID:Europe/Paris
BEGIN:DAYLIGHT
TZOFFSETFROM:+0100
TZOFFSETTO:+0200
TZNAME:CEST
DTSTART:20250330T010000
END:DAYLIGHT
BEGIN:STANDARD
TZOFFSETFROM:+0200
TZOFFSETTO:+0100
TZNAME:CET
DTSTART:20251026T010000
END:STANDARD
END:VTIMEZONE
BEGIN:VEVENT
DTSTART;TZID=Europe/Paris:20250609T080000
DTEND;TZID=Europe/Paris:20250609T190000
DTSTAMP:20260423T190805
CREATED:20250505T065808Z
LAST-MODIFIED:20250505T065808Z
UID:9852-1749456000-1749495600@boulay-moselle.fr
SUMMARY:Vide-greniers
DESCRIPTION:
URL:https://boulay-moselle.fr/event/vide-greniers-3/
LOCATION:Halling-Lès-Boulay\, Halling-les-Boulay\, France
CATEGORIES:ville
ORGANIZER;CN="Association Rurale et Culturelle de Halling-L%C3%A8s-Boulay":MAILTO:archalling@gmail.com
END:VEVENT
END:VCALENDAR