BEGIN:VCALENDAR
VERSION:2.0
PRODID:-//Ville de Boulay-Moselle - ECPv6.3.2//NONSGML v1.0//EN
CALSCALE:GREGORIAN
METHOD:PUBLISH
X-ORIGINAL-URL:https://boulay-moselle.fr
X-WR-CALDESC:évènements pour Ville de Boulay-Moselle
REFRESH-INTERVAL;VALUE=DURATION:PT1H
X-Robots-Tag:noindex
X-PUBLISHED-TTL:PT1H
BEGIN:VTIMEZONE
TZID:Europe/Paris
BEGIN:DAYLIGHT
TZOFFSETFROM:+0100
TZOFFSETTO:+0200
TZNAME:CEST
DTSTART:20250330T010000
END:DAYLIGHT
BEGIN:STANDARD
TZOFFSETFROM:+0200
TZOFFSETTO:+0100
TZNAME:CET
DTSTART:20251026T010000
END:STANDARD
END:VTIMEZONE
BEGIN:VEVENT
DTSTART;TZID=Europe/Paris:20250720T140000
DTEND;TZID=Europe/Paris:20250720T170000
DTSTAMP:20260423T140411
CREATED:20250618T081652Z
LAST-MODIFIED:20250718T093703Z
UID:10043-1753020000-1753030800@boulay-moselle.fr
SUMMARY:Les Estivales de la Schanze – Ateliers créatifs en liberté 🎨
DESCRIPTION:En raison de la météo défavorable annoncée \, cet événement se déroulera à la salle Omnisports (Complexe Isabelle Wendling) \nVenez découvrir l’association « Pas Assez de Metz » qui propose un après-midi ludique et artistique ou chacun pourra s’exprimer librement. \nAu programme : \n\nAteliers de découverte des instruments du monde🎶 🎵\nJeux coopératifs 🤝\nCoins créatifs permanents (confection de badges\, déguisement\, initiations au cirque et jeux en bois)\n\nÉvénement Gratuit – Aucune inscription requise
URL:https://boulay-moselle.fr/event/les-estivales-de-la-schanze-ateliers-creatifs-en-liberte-%f0%9f%8e%a8/
LOCATION:Salle omnisports – Complexe Isabelle Wendling\, route de Bouzonville\, BOULAY\, 57220\, France
CATEGORIES:ville
END:VEVENT
END:VCALENDAR