BEGIN:VCALENDAR
VERSION:2.0
PRODID:-//Ville de Boulay-Moselle - ECPv6.3.2//NONSGML v1.0//EN
CALSCALE:GREGORIAN
METHOD:PUBLISH
X-WR-CALNAME:Ville de Boulay-Moselle
X-ORIGINAL-URL:https://boulay-moselle.fr
X-WR-CALDESC:évènements pour Ville de Boulay-Moselle
REFRESH-INTERVAL;VALUE=DURATION:PT1H
X-Robots-Tag:noindex
X-PUBLISHED-TTL:PT1H
BEGIN:VTIMEZONE
TZID:Europe/Paris
BEGIN:DAYLIGHT
TZOFFSETFROM:+0100
TZOFFSETTO:+0200
TZNAME:CEST
DTSTART:20250330T010000
END:DAYLIGHT
BEGIN:STANDARD
TZOFFSETFROM:+0200
TZOFFSETTO:+0100
TZNAME:CET
DTSTART:20251026T010000
END:STANDARD
END:VTIMEZONE
BEGIN:VEVENT
DTSTART;TZID=Europe/Paris:20250803T100000
DTEND;TZID=Europe/Paris:20250803T180000
DTSTAMP:20260423T171727
CREATED:20250623T111241Z
LAST-MODIFIED:20250623T111241Z
UID:10070-1754215200-1754244000@boulay-moselle.fr
SUMMARY:Meeting international d’aéromodélisme
DESCRIPTION:
URL:https://boulay-moselle.fr/event/meeting-international-daeromodelisme-2/
LOCATION:Terrain du MCE EBLANGE (Entre Boulay et Eblange)
CATEGORIES:ville
END:VEVENT
BEGIN:VEVENT
DTSTART;TZID=Europe/Paris:20250803T140000
DTEND;TZID=Europe/Paris:20250803T180000
DTSTAMP:20260423T171727
CREATED:20250618T081021Z
LAST-MODIFIED:20250725T081919Z
UID:10039-1754229600-1754244000@boulay-moselle.fr
SUMMARY:Les Estivales de la Schanze – L’Atelier
DESCRIPTION:Venez découvrir les artistes et artisans qui seront présents pour partager leur univers. \nL’occasion parfaite pour découvrir des savoir-faire uniques… et pourquoi pas\, vous essayer à la création ! \nAu programme :  \n\nDécouverte du processus créatif des œuvres 🎨 🖌️\nRencontre et échange avec les artistes 👥 💬\nCréation d’une fresque collective animée par l’artiste Pascal Langard (celle-ci sera ensuite exposée dans la ville)
URL:https://boulay-moselle.fr/event/les-estivales-de-la-schanze-latelier/
LOCATION:Parc de la Schanze\, Boulay-Moselle\, 57220\, France
CATEGORIES:ville
END:VEVENT
END:VCALENDAR