BEGIN:VCALENDAR
VERSION:2.0
PRODID:-//Ville de Boulay-Moselle - ECPv6.3.2//NONSGML v1.0//EN
CALSCALE:GREGORIAN
METHOD:PUBLISH
X-ORIGINAL-URL:https://boulay-moselle.fr
X-WR-CALDESC:évènements pour Ville de Boulay-Moselle
REFRESH-INTERVAL;VALUE=DURATION:PT1H
X-Robots-Tag:noindex
X-PUBLISHED-TTL:PT1H
BEGIN:VTIMEZONE
TZID:Europe/Paris
BEGIN:DAYLIGHT
TZOFFSETFROM:+0100
TZOFFSETTO:+0200
TZNAME:CEST
DTSTART:20250330T010000
END:DAYLIGHT
BEGIN:STANDARD
TZOFFSETFROM:+0200
TZOFFSETTO:+0100
TZNAME:CET
DTSTART:20251026T010000
END:STANDARD
END:VTIMEZONE
BEGIN:VEVENT
DTSTART;TZID=Europe/Paris:20250809T190000
DTEND;TZID=Europe/Paris:20250810T010000
DTSTAMP:20260422T131655
CREATED:20250717T062726Z
LAST-MODIFIED:20250717T062726Z
UID:10140-1754766000-1754787600@boulay-moselle.fr
SUMMARY:Fête patronale - Soirée Guinguette
DESCRIPTION:
URL:https://boulay-moselle.fr/event/fete-patronale-soiree-guinguette-4/
LOCATION:Parc de la Schanze\, Boulay-Moselle\, 57220\, France
CATEGORIES:ville
ORGANIZER;CN="CAB":MAILTO:boulay.ca@moselle.lgef.fr
END:VEVENT
END:VCALENDAR