BEGIN:VCALENDAR
VERSION:2.0
PRODID:-//Ville de Boulay-Moselle - ECPv6.3.2//NONSGML v1.0//EN
CALSCALE:GREGORIAN
METHOD:PUBLISH
X-WR-CALNAME:Ville de Boulay-Moselle
X-ORIGINAL-URL:https://boulay-moselle.fr
X-WR-CALDESC:évènements pour Ville de Boulay-Moselle
REFRESH-INTERVAL;VALUE=DURATION:PT1H
X-Robots-Tag:noindex
X-PUBLISHED-TTL:PT1H
BEGIN:VTIMEZONE
TZID:Europe/Paris
BEGIN:DAYLIGHT
TZOFFSETFROM:+0100
TZOFFSETTO:+0200
TZNAME:CEST
DTSTART:20250330T010000
END:DAYLIGHT
BEGIN:STANDARD
TZOFFSETFROM:+0200
TZOFFSETTO:+0100
TZNAME:CET
DTSTART:20251026T010000
END:STANDARD
END:VTIMEZONE
BEGIN:VEVENT
DTSTART;TZID=Europe/Paris:20250814T210000
DTEND;TZID=Europe/Paris:20250814T220000
DTSTAMP:20260422T131329
CREATED:20250618T081355Z
LAST-MODIFIED:20250806T095432Z
UID:10041-1755205200-1755208800@boulay-moselle.fr
SUMMARY:Les Estivales de la Schanze –Visite nocturne et insolite 🌙 ✨
DESCRIPTION:La visite insolite nocturne de la Ville affiche complet. Toutes les places ont été réservées.\n\n\nNous vous remercions pour votre enthousiasme !\n\n\n De nouvelles dates seront annoncées bientôt.
URL:https://boulay-moselle.fr/event/les-estivales-de-la-schanze-visite-nocturne-et-insolite-%f0%9f%8c%99-%e2%9c%a8/
LOCATION:Parc de la Schanze\, Boulay-Moselle\, 57220\, France
CATEGORIES:ville
END:VEVENT
END:VCALENDAR