BEGIN:VCALENDAR
VERSION:2.0
PRODID:-//Ville de Boulay-Moselle - ECPv6.3.2//NONSGML v1.0//EN
CALSCALE:GREGORIAN
METHOD:PUBLISH
X-WR-CALNAME:Ville de Boulay-Moselle
X-ORIGINAL-URL:https://boulay-moselle.fr
X-WR-CALDESC:évènements pour Ville de Boulay-Moselle
REFRESH-INTERVAL;VALUE=DURATION:PT1H
X-Robots-Tag:noindex
X-PUBLISHED-TTL:PT1H
BEGIN:VTIMEZONE
TZID:Europe/Paris
BEGIN:DAYLIGHT
TZOFFSETFROM:+0100
TZOFFSETTO:+0200
TZNAME:CEST
DTSTART:20250330T010000
END:DAYLIGHT
BEGIN:STANDARD
TZOFFSETFROM:+0200
TZOFFSETTO:+0100
TZNAME:CET
DTSTART:20251026T010000
END:STANDARD
END:VTIMEZONE
BEGIN:VEVENT
DTSTART;TZID=Europe/Paris:20251103T150000
DTEND;TZID=Europe/Paris:20251103T190000
DTSTAMP:20260422T161044
CREATED:20251001T112905Z
LAST-MODIFIED:20251001T112905Z
UID:10435-1762182000-1762196400@boulay-moselle.fr
SUMMARY:Don de sang
DESCRIPTION:
URL:https://boulay-moselle.fr/event/don-de-sang-11/
LOCATION:Salle des fêtes – Complexe Isabelle Wendling\, route de bouzonville\, boulay-moselle\, 57220\, France
CATEGORIES:ville
END:VEVENT
END:VCALENDAR