BEGIN:VCALENDAR
VERSION:2.0
PRODID:-//Ville de Boulay-Moselle - ECPv6.3.2//NONSGML v1.0//EN
CALSCALE:GREGORIAN
METHOD:PUBLISH
X-ORIGINAL-URL:https://boulay-moselle.fr
X-WR-CALDESC:évènements pour Ville de Boulay-Moselle
REFRESH-INTERVAL;VALUE=DURATION:PT1H
X-Robots-Tag:noindex
X-PUBLISHED-TTL:PT1H
BEGIN:VTIMEZONE
TZID:Europe/Paris
BEGIN:DAYLIGHT
TZOFFSETFROM:+0100
TZOFFSETTO:+0200
TZNAME:CEST
DTSTART:20250330T010000
END:DAYLIGHT
BEGIN:STANDARD
TZOFFSETFROM:+0200
TZOFFSETTO:+0100
TZNAME:CET
DTSTART:20251026T010000
END:STANDARD
END:VTIMEZONE
BEGIN:VEVENT
DTSTART;TZID=Europe/Paris:20251128T080000
DTEND;TZID=Europe/Paris:20251129T170000
DTSTAMP:20260422T143901
CREATED:20251128T160247Z
LAST-MODIFIED:20251128T160448Z
UID:10602-1764316800-1764435600@boulay-moselle.fr
SUMMARY:Report de collecte des déchets
DESCRIPTION:Exceptionnellement\, la collecte de la zone bleue de ce jour est reportée à 𝗱𝗲𝗺𝗮𝗶𝗻 𝘀𝗮𝗺𝗲𝗱𝗶 𝟮𝟵 𝗻𝗼𝘃𝗲𝗺𝗯𝗿𝗲.\n\n\n \n\n\n🌐 Pour savoir si vous êtes concernés :\n\n\nhttps://www.paysboulageois.fr/index.php/vie-quotidienne/ordures-menageres/dechets-menagers
URL:https://boulay-moselle.fr/event/report-de-collecte-des-dechets-4/
CATEGORIES:ville
END:VEVENT
BEGIN:VEVENT
DTSTART;TZID=Europe/Paris:20251128T170000
DTEND;TZID=Europe/Paris:20251128T210000
DTSTAMP:20260422T143901
CREATED:20251112T134216Z
LAST-MODIFIED:20251112T134216Z
UID:10566-1764349200-1764363600@boulay-moselle.fr
SUMMARY:Cérémonie des illuminations de la Ville
DESCRIPTION:
URL:https://boulay-moselle.fr/event/ceremonie-des-illuminations-de-la-ville/
LOCATION:Place de la République\, Boulay-Moselle\, 57220\, France
CATEGORIES:ville
END:VEVENT
END:VCALENDAR