BEGIN:VCALENDAR
VERSION:2.0
PRODID:-//Ville de Boulay-Moselle - ECPv6.3.2//NONSGML v1.0//EN
CALSCALE:GREGORIAN
METHOD:PUBLISH
X-ORIGINAL-URL:https://boulay-moselle.fr
X-WR-CALDESC:évènements pour Ville de Boulay-Moselle
REFRESH-INTERVAL;VALUE=DURATION:PT1H
X-Robots-Tag:noindex
X-PUBLISHED-TTL:PT1H
BEGIN:VTIMEZONE
TZID:Europe/Paris
BEGIN:DAYLIGHT
TZOFFSETFROM:+0100
TZOFFSETTO:+0200
TZNAME:CEST
DTSTART:20250330T010000
END:DAYLIGHT
BEGIN:STANDARD
TZOFFSETFROM:+0200
TZOFFSETTO:+0100
TZNAME:CET
DTSTART:20251026T010000
END:STANDARD
END:VTIMEZONE
BEGIN:VEVENT
DTSTART;TZID=Europe/Paris:20251203T083000
DTEND;TZID=Europe/Paris:20251203T190000
DTSTAMP:20260422T174753
CREATED:20251112T085443Z
LAST-MODIFIED:20251112T085601Z
UID:10538-1764750600-1764788400@boulay-moselle.fr
SUMMARY:Permanence sacs multiflux
DESCRIPTION:
URL:https://boulay-moselle.fr/event/permanence-sacs-multiflux/
LOCATION:Complexe Isabelle Wendling\, route de Bouzonville\, BOULAY-MOSELLE\, 57220\, France
CATEGORIES:ville
END:VEVENT
END:VCALENDAR