BEGIN:VCALENDAR
VERSION:2.0
PRODID:-//Ville de Boulay-Moselle - ECPv6.3.2//NONSGML v1.0//EN
CALSCALE:GREGORIAN
METHOD:PUBLISH
X-WR-CALNAME:Ville de Boulay-Moselle
X-ORIGINAL-URL:https://boulay-moselle.fr
X-WR-CALDESC:évènements pour Ville de Boulay-Moselle
REFRESH-INTERVAL;VALUE=DURATION:PT1H
X-Robots-Tag:noindex
X-PUBLISHED-TTL:PT1H
BEGIN:VTIMEZONE
TZID:Europe/Paris
BEGIN:DAYLIGHT
TZOFFSETFROM:+0100
TZOFFSETTO:+0200
TZNAME:CEST
DTSTART:20260329T010000
END:DAYLIGHT
BEGIN:STANDARD
TZOFFSETFROM:+0200
TZOFFSETTO:+0100
TZNAME:CET
DTSTART:20261025T010000
END:STANDARD
END:VTIMEZONE
BEGIN:VEVENT
DTSTART;TZID=Europe/Paris:20260223T140000
DTEND;TZID=Europe/Paris:20260223T163000
DTSTAMP:20260422T145827
CREATED:20260209T081134Z
LAST-MODIFIED:20260209T081134Z
UID:10823-1771855200-1771864200@boulay-moselle.fr
SUMMARY:Atelier : Mon logement évolue avec moi
DESCRIPTION:
URL:https://boulay-moselle.fr/event/atelier-mon-logement-evolue-avec-moi-2/
LOCATION:la Ruche\, 6 impasse de l'Abattoir\, Boulay-Moselle\, 57220\, France
CATEGORIES:ville
END:VEVENT
END:VCALENDAR