BEGIN:VCALENDAR
VERSION:2.0
PRODID:-//Ville de Boulay-Moselle - ECPv6.3.2//NONSGML v1.0//EN
CALSCALE:GREGORIAN
METHOD:PUBLISH
X-WR-CALNAME:Ville de Boulay-Moselle
X-ORIGINAL-URL:https://boulay-moselle.fr
X-WR-CALDESC:évènements pour Ville de Boulay-Moselle
REFRESH-INTERVAL;VALUE=DURATION:PT1H
X-Robots-Tag:noindex
X-PUBLISHED-TTL:PT1H
BEGIN:VTIMEZONE
TZID:Europe/Paris
BEGIN:DAYLIGHT
TZOFFSETFROM:+0100
TZOFFSETTO:+0200
TZNAME:CEST
DTSTART:20260329T010000
END:DAYLIGHT
BEGIN:STANDARD
TZOFFSETFROM:+0200
TZOFFSETTO:+0100
TZNAME:CET
DTSTART:20261025T010000
END:STANDARD
END:VTIMEZONE
BEGIN:VEVENT
DTSTART;TZID=Europe/Paris:20260227T200000
DTEND;TZID=Europe/Paris:20260227T220000
DTSTAMP:20260422T145823
CREATED:20260209T081449Z
LAST-MODIFIED:20260209T093805Z
UID:10827-1772222400-1772229600@boulay-moselle.fr
SUMMARY:Séance de cinéma - Avatar 3 en 3D
DESCRIPTION:Événement en 3D – Lunettes 3D prêtées sur place\nAvatar 3 – en 3D – Tout public – Vendredi 27 février 2026 à 20h00\n\n Tarifs :\n• Adultes : 6\,50 €\n• 14–18 ans : 6 €\n• Moins de 14 ans : 5 €\n\n\n\n Billets en vente sur place ou en ligne sur https://www.cravlor.fr\n\n\n\n Une belle occasion de vivre la magie du cinéma près de chez soi\, sans faire de kilomètres\, dans une ambiance conviviale et accessible à tous.\n\n\nOn vous attend nombreux pour ces moments de partage et d’évasion !
URL:https://boulay-moselle.fr/event/seance-de-cinema-avatar-3-en-3d/
LOCATION:Salle des fêtes – Complexe Isabelle Wendling\, route de bouzonville\, boulay-moselle\, 57220\, France
CATEGORIES:ville
END:VEVENT
END:VCALENDAR