BEGIN:VCALENDAR
VERSION:2.0
PRODID:-//Ville de Boulay-Moselle - ECPv6.3.2//NONSGML v1.0//EN
CALSCALE:GREGORIAN
METHOD:PUBLISH
X-ORIGINAL-URL:https://boulay-moselle.fr
X-WR-CALDESC:évènements pour Ville de Boulay-Moselle
REFRESH-INTERVAL;VALUE=DURATION:PT1H
X-Robots-Tag:noindex
X-PUBLISHED-TTL:PT1H
BEGIN:VTIMEZONE
TZID:Europe/Paris
BEGIN:DAYLIGHT
TZOFFSETFROM:+0100
TZOFFSETTO:+0200
TZNAME:CEST
DTSTART:20260329T010000
END:DAYLIGHT
BEGIN:STANDARD
TZOFFSETFROM:+0200
TZOFFSETTO:+0100
TZNAME:CET
DTSTART:20261025T010000
END:STANDARD
END:VTIMEZONE
BEGIN:VEVENT
DTSTART;TZID=Europe/Paris:20260525T080000
DTEND;TZID=Europe/Paris:20260525T180000
DTSTAMP:20260422T162519
CREATED:20260409T145558Z
LAST-MODIFIED:20260409T145849Z
UID:9854-1779696000-1779732000@boulay-moselle.fr
SUMMARY:Vide-greniers
DESCRIPTION:
URL:https://boulay-moselle.fr/event/vide-greniers-4/
LOCATION:Halling-Lès-Boulay\, Halling-les-Boulay\, France
CATEGORIES:ville
ORGANIZER;CN="Association Rurale et Culturelle de Halling-L%C3%A8s-Boulay":MAILTO:archalling@gmail.com
END:VEVENT
END:VCALENDAR