BEGIN:VCALENDAR
VERSION:2.0
PRODID:-//Ville de Boulay-Moselle - ECPv6.3.2//NONSGML v1.0//EN
CALSCALE:GREGORIAN
METHOD:PUBLISH
X-ORIGINAL-URL:https://boulay-moselle.fr
X-WR-CALDESC:évènements pour Ville de Boulay-Moselle
REFRESH-INTERVAL;VALUE=DURATION:PT1H
X-Robots-Tag:noindex
X-PUBLISHED-TTL:PT1H
BEGIN:VTIMEZONE
TZID:Europe/Paris
BEGIN:DAYLIGHT
TZOFFSETFROM:+0100
TZOFFSETTO:+0200
TZNAME:CEST
DTSTART:20260329T010000
END:DAYLIGHT
BEGIN:STANDARD
TZOFFSETFROM:+0200
TZOFFSETTO:+0100
TZNAME:CET
DTSTART:20261025T010000
END:STANDARD
END:VTIMEZONE
BEGIN:VEVENT
DTSTART;TZID=Europe/Paris:20260603T170000
DTEND;TZID=Europe/Paris:20260603T190000
DTSTAMP:20260422T194032
CREATED:20250915T095721Z
LAST-MODIFIED:20250915T100511Z
UID:10344-1780506000-1780513200@boulay-moselle.fr
SUMMARY:Atelier pixilation (Ados)
DESCRIPTION:Inscriptions prochainement sur : https://boulay-moselle.mapado.com/ \n \n 
URL:https://boulay-moselle.fr/event/atelier-pixilation-ados/
CATEGORIES:ville
END:VEVENT
END:VCALENDAR