BEGIN:VCALENDAR
VERSION:2.0
PRODID:-//Ville de Boulay-Moselle - ECPv6.3.2//NONSGML v1.0//EN
CALSCALE:GREGORIAN
METHOD:PUBLISH
X-ORIGINAL-URL:https://boulay-moselle.fr
X-WR-CALDESC:évènements pour Ville de Boulay-Moselle
REFRESH-INTERVAL;VALUE=DURATION:PT1H
X-Robots-Tag:noindex
X-PUBLISHED-TTL:PT1H
BEGIN:VTIMEZONE
TZID:Europe/Paris
BEGIN:DAYLIGHT
TZOFFSETFROM:+0100
TZOFFSETTO:+0200
TZNAME:CEST
DTSTART:20260329T010000
END:DAYLIGHT
BEGIN:STANDARD
TZOFFSETFROM:+0200
TZOFFSETTO:+0100
TZNAME:CET
DTSTART:20261025T010000
END:STANDARD
END:VTIMEZONE
BEGIN:VEVENT
DTSTART;TZID=Europe/Paris:20260628T080000
DTEND;TZID=Europe/Paris:20260628T170000
DTSTAMP:20260422T194027
CREATED:20260409T220446Z
LAST-MODIFIED:20260410T063508Z
UID:9751-1782633600-1782666000@boulay-moselle.fr
SUMMARY:Open de Mölkky
DESCRIPTION:
URL:https://boulay-moselle.fr/event/open-de-molkky-5/
LOCATION:Boulodrome\, route de Bouzonville\, BOULAY\, 57220\, France
CATEGORIES:ville
END:VEVENT
END:VCALENDAR