BEGIN:VCALENDAR
VERSION:2.0
PRODID:-//Ville de Boulay-Moselle - ECPv6.3.2//NONSGML v1.0//EN
CALSCALE:GREGORIAN
METHOD:PUBLISH
X-ORIGINAL-URL:https://boulay-moselle.fr
X-WR-CALDESC:évènements pour Ville de Boulay-Moselle
REFRESH-INTERVAL;VALUE=DURATION:PT1H
X-Robots-Tag:noindex
X-PUBLISHED-TTL:PT1H
BEGIN:VTIMEZONE
TZID:Europe/Paris
BEGIN:DAYLIGHT
TZOFFSETFROM:+0100
TZOFFSETTO:+0200
TZNAME:CEST
DTSTART:20240331T010000
END:DAYLIGHT
BEGIN:STANDARD
TZOFFSETFROM:+0200
TZOFFSETTO:+0100
TZNAME:CET
DTSTART:20241027T010000
END:STANDARD
END:VTIMEZONE
BEGIN:VEVENT
DTSTART;TZID=Europe/Paris:20240601T090000
DTEND;TZID=Europe/Paris:20240601T113000
DTSTAMP:20260423T110126
CREATED:20240507T092054Z
LAST-MODIFIED:20240507T100312Z
UID:8607-1717232400-1717241400@boulay-moselle.fr
SUMMARY:ASS'MAT DATING
DESCRIPTION:
URL:https://boulay-moselle.fr/event/assmat-dating/
LOCATION:Hotel Communautaire
CATEGORIES:ville
END:VEVENT
BEGIN:VEVENT
DTSTART;TZID=Europe/Paris:20240602T100000
DTEND;TZID=Europe/Paris:20240602T170000
DTSTAMP:20260423T110126
CREATED:20240327T130810Z
LAST-MODIFIED:20240523T165443Z
UID:8469-1717322400-1717347600@boulay-moselle.fr
SUMMARY:Kermesse
DESCRIPTION:
URL:https://boulay-moselle.fr/event/kermesse/
LOCATION:Jardins du présbytère catholique\, 21 place Jean XXIII\, boulay-moselle\, 57220\, France
CATEGORIES:ville
END:VEVENT
BEGIN:VEVENT
DTSTART;TZID=Europe/Paris:20240602T170000
DTEND;TZID=Europe/Paris:20240602T183000
DTSTAMP:20260423T110126
CREATED:20240513T064437Z
LAST-MODIFIED:20240523T165512Z
UID:8623-1717347600-1717353000@boulay-moselle.fr
SUMMARY:One Man Show Lukas Picot
DESCRIPTION:
URL:https://boulay-moselle.fr/event/one-man-show-lukas-picot/
LOCATION:Salle St-Etienne\, Place Jean XXIII\, BOULAY\, 57220\, France
CATEGORIES:ville
END:VEVENT
BEGIN:VEVENT
DTSTART;TZID=Europe/Paris:20240603T150000
DTEND;TZID=Europe/Paris:20240603T190000
DTSTAMP:20260423T110126
CREATED:20240327T130907Z
LAST-MODIFIED:20240513T070219Z
UID:8471-1717426800-1717441200@boulay-moselle.fr
SUMMARY:Don du sang
DESCRIPTION:
URL:https://boulay-moselle.fr/event/don-du-sang-19/
LOCATION:Salle des fêtes – Complexe Isabelle Wendling\, route de bouzonville\, boulay-moselle\, 57220\, France
CATEGORIES:ville
END:VEVENT
BEGIN:VEVENT
DTSTART;TZID=Europe/Paris:20240608T080000
DTEND;TZID=Europe/Paris:20240608T170000
DTSTAMP:20260423T110126
CREATED:20240327T131112Z
LAST-MODIFIED:20240506T075810Z
UID:8473-1717833600-1717866000@boulay-moselle.fr
SUMMARY:Portes-ouvertes des Pompiers
DESCRIPTION:
URL:https://boulay-moselle.fr/event/portes-ouvertes/
LOCATION:Salle omnisports – Complexe Isabelle Wendling\, route de Bouzonville\, BOULAY\, 57220\, France
CATEGORIES:ville
END:VEVENT
BEGIN:VEVENT
DTSTART;TZID=Europe/Paris:20240608T150000
DTEND;TZID=Europe/Paris:20240608T170000
DTSTAMP:20260423T110126
CREATED:20240410T145536Z
LAST-MODIFIED:20240410T145546Z
UID:8532-1717858800-1717866000@boulay-moselle.fr
SUMMARY:Tournoi de Tennis Ballon
DESCRIPTION:
URL:https://boulay-moselle.fr/event/tournoi-de-tennis-ballon-2/
LOCATION:Bulles de tennis\, 12 rue Robert Schuman\, BOULAY-MOSELLE\, 57220\, France
CATEGORIES:ville
END:VEVENT
BEGIN:VEVENT
DTSTART;TZID=Europe/Paris:20240609T100000
DTEND;TZID=Europe/Paris:20240609T170000
DTSTAMP:20260423T110126
CREATED:20240327T131219Z
LAST-MODIFIED:20240327T131219Z
UID:8476-1717927200-1717952400@boulay-moselle.fr
SUMMARY:Toute la Ville joue au Hand
DESCRIPTION:
URL:https://boulay-moselle.fr/event/toute-la-ville-joue-au-hand/
LOCATION:Stade Charles Muller\, route de Bouzonville\, boulay-moselle\, 57220\, France
CATEGORIES:ville
END:VEVENT
BEGIN:VEVENT
DTSTART;TZID=Europe/Paris:20240609T150000
DTEND;TZID=Europe/Paris:20240609T170000
DTSTAMP:20260423T110126
CREATED:20240527T142306Z
LAST-MODIFIED:20240527T142306Z
UID:8705-1717945200-1717952400@boulay-moselle.fr
SUMMARY:Concert
DESCRIPTION:
URL:https://boulay-moselle.fr/event/concert-2/
LOCATION:Salle des fêtes – Complexe Isabelle Wendling\, route de bouzonville\, boulay-moselle\, 57220\, France
CATEGORIES:ville
END:VEVENT
BEGIN:VEVENT
DTSTART;TZID=Europe/Paris:20240610T083000
DTEND;TZID=Europe/Paris:20240610T190000
DTSTAMP:20260423T110126
CREATED:20240515T043415Z
LAST-MODIFIED:20240515T071128Z
UID:7797-1718008200-1718046000@boulay-moselle.fr
SUMMARY:Redotation de sacs multiflux
DESCRIPTION:
URL:https://boulay-moselle.fr/event/redotation-de-sacs-multiflux-12/
LOCATION:Complexe Isabelle Wendling\, route de Bouzonville\, BOULAY-MOSELLE\, 57220\, France
CATEGORIES:ville
END:VEVENT
BEGIN:VEVENT
DTSTART;TZID=Europe/Paris:20240611T083000
DTEND;TZID=Europe/Paris:20240611T190000
DTSTAMP:20260423T110126
CREATED:20240515T071159Z
LAST-MODIFIED:20240515T071159Z
UID:8647-1718094600-1718132400@boulay-moselle.fr
SUMMARY:Redotation de sacs multiflux
DESCRIPTION:
URL:https://boulay-moselle.fr/event/redotation-de-sacs-multiflux-13/
LOCATION:Complexe Isabelle Wendling\, route de Bouzonville\, BOULAY-MOSELLE\, 57220\, France
CATEGORIES:ville
END:VEVENT
BEGIN:VEVENT
DTSTART;TZID=Europe/Paris:20240615T190000
DTEND;TZID=Europe/Paris:20240615T210000
DTSTAMP:20260423T110126
CREATED:20240327T131324Z
LAST-MODIFIED:20240327T131324Z
UID:8478-1718478000-1718485200@boulay-moselle.fr
SUMMARY:Gala de danse
DESCRIPTION:
URL:https://boulay-moselle.fr/event/gala-de-danse-4/
LOCATION:Salle omnisports – Complexe Isabelle Wendling\, route de Bouzonville\, BOULAY\, 57220\, France
CATEGORIES:ville
END:VEVENT
BEGIN:VEVENT
DTSTART;TZID=Europe/Paris:20240616T120000
DTEND;TZID=Europe/Paris:20240616T170000
DTSTAMP:20260423T110126
CREATED:20240327T131419Z
LAST-MODIFIED:20240606T141210Z
UID:8480-1718539200-1718557200@boulay-moselle.fr
SUMMARY:Kermesse
DESCRIPTION:
URL:https://boulay-moselle.fr/event/kermesse-2/
LOCATION:Parc de la Schanze\, Boulay-Moselle\, 57220\, France
CATEGORIES:ville
ORGANIZER;CN="APEB":MAILTO:apeb.asso57@gmail.com
END:VEVENT
BEGIN:VEVENT
DTSTART;TZID=Europe/Paris:20240617T183000
DTEND;TZID=Europe/Paris:20240617T190000
DTSTAMP:20260423T110126
CREATED:20240327T131510Z
LAST-MODIFIED:20240327T131510Z
UID:8482-1718649000-1718650800@boulay-moselle.fr
SUMMARY:Commémoration de l'appel historique du Général de Gaulle
DESCRIPTION:
URL:https://boulay-moselle.fr/event/commemoration-de-lappel-historique-du-general-de-gaulle/
LOCATION:Devant le Monument aux Morts
CATEGORIES:ville
END:VEVENT
BEGIN:VEVENT
DTSTART;TZID=Europe/Paris:20240619T180000
DTEND;TZID=Europe/Paris:20240619T190000
DTSTAMP:20260423T110126
CREATED:20240327T131628Z
LAST-MODIFIED:20240410T145433Z
UID:8484-1718820000-1718823600@boulay-moselle.fr
SUMMARY:Spectacle
DESCRIPTION:
URL:https://boulay-moselle.fr/event/spectacle/
LOCATION:Salle omnisports – Complexe Isabelle Wendling\, route de Bouzonville\, BOULAY\, 57220\, France
CATEGORIES:ville
END:VEVENT
BEGIN:VEVENT
DTSTART;TZID=Europe/Paris:20240621T170000
DTEND;TZID=Europe/Paris:20240621T220000
DTSTAMP:20260423T110126
CREATED:20240617T071531Z
LAST-MODIFIED:20240617T073635Z
UID:8760-1718989200-1719007200@boulay-moselle.fr
SUMMARY:Fête de la Musique à la Ruche
DESCRIPTION:
URL:https://boulay-moselle.fr/event/fete-de-la-musique-a-la-ruche/
LOCATION:la Ruche\, 6 impasse de l'Abattoir\, Boulay-Moselle\, 57220\, France
CATEGORIES:ville
END:VEVENT
BEGIN:VEVENT
DTSTART;TZID=Europe/Paris:20240622T120000
DTEND;TZID=Europe/Paris:20240622T170000
DTSTAMP:20260423T110126
CREATED:20240327T131743Z
LAST-MODIFIED:20240605T080837Z
UID:8486-1719057600-1719075600@boulay-moselle.fr
SUMMARY:Tout Boulay joue au foot
DESCRIPTION:
URL:https://boulay-moselle.fr/event/toute-la-ville-joue-au-foot/
LOCATION:Stade Charles Muller\, route de Bouzonville\, boulay-moselle\, 57220\, France
CATEGORIES:ville
ORGANIZER;CN="CAB":MAILTO:boulay.ca@moselle.lgef.fr
END:VEVENT
BEGIN:VEVENT
DTSTART;TZID=Europe/Paris:20240622T180000
DTEND;TZID=Europe/Paris:20240622T230000
DTSTAMP:20260423T110126
CREATED:20240327T131858Z
LAST-MODIFIED:20240620T075153Z
UID:8488-1719079200-1719097200@boulay-moselle.fr
SUMMARY:Fête de la Musique
DESCRIPTION:
URL:https://boulay-moselle.fr/event/fete-de-la-musique-5/
LOCATION:Salle omnisports – Complexe Isabelle Wendling\, route de Bouzonville\, BOULAY\, 57220\, France
CATEGORIES:ville
END:VEVENT
BEGIN:VEVENT
DTSTART;TZID=Europe/Paris:20240623T100000
DTEND;TZID=Europe/Paris:20240623T170000
DTSTAMP:20260423T110126
CREATED:20240327T131958Z
LAST-MODIFIED:20240605T080926Z
UID:8490-1719136800-1719162000@boulay-moselle.fr
SUMMARY:Journée portes ouvertes et Brocante
DESCRIPTION:
URL:https://boulay-moselle.fr/event/brocante-2/
LOCATION:Bulles de tennis\, 12 rue Robert Schuman\, BOULAY-MOSELLE\, 57220\, France
CATEGORIES:ville
END:VEVENT
BEGIN:VEVENT
DTSTART;TZID=Europe/Paris:20240624T140000
DTEND;TZID=Europe/Paris:20240624T170000
DTSTAMP:20260423T110126
CREATED:20240619T065117Z
LAST-MODIFIED:20240619T065117Z
UID:8781-1719237600-1719248400@boulay-moselle.fr
SUMMARY:Kaffee Klatsch Dansant
DESCRIPTION:
URL:https://boulay-moselle.fr/event/kaffee-klatsch-dansant/
LOCATION:Salle des fêtes – Complexe Isabelle Wendling\, route de bouzonville\, boulay-moselle\, 57220\, France
CATEGORIES:ville
END:VEVENT
BEGIN:VEVENT
DTSTART;TZID=Europe/Paris:20240629T100000
DTEND;TZID=Europe/Paris:20240630T190000
DTSTAMP:20260423T110126
CREATED:20240327T132054Z
LAST-MODIFIED:20240617T073814Z
UID:8492-1719655200-1719774000@boulay-moselle.fr
SUMMARY:Boulay Bouq'In
DESCRIPTION:
URL:https://boulay-moselle.fr/event/boulay-bouqin-3/
LOCATION:Place de la République\, Boulay-Moselle\, 57220\, France
CATEGORIES:ville
END:VEVENT
END:VCALENDAR