BEGIN:VCALENDAR
VERSION:2.0
PRODID:-//Ville de Boulay-Moselle - ECPv6.3.2//NONSGML v1.0//EN
CALSCALE:GREGORIAN
METHOD:PUBLISH
X-WR-CALNAME:Ville de Boulay-Moselle
X-ORIGINAL-URL:https://boulay-moselle.fr
X-WR-CALDESC:évènements pour Ville de Boulay-Moselle
REFRESH-INTERVAL;VALUE=DURATION:PT1H
X-Robots-Tag:noindex
X-PUBLISHED-TTL:PT1H
BEGIN:VTIMEZONE
TZID:Europe/Paris
BEGIN:DAYLIGHT
TZOFFSETFROM:+0100
TZOFFSETTO:+0200
TZNAME:CEST
DTSTART:20240331T010000
END:DAYLIGHT
BEGIN:STANDARD
TZOFFSETFROM:+0200
TZOFFSETTO:+0100
TZNAME:CET
DTSTART:20241027T010000
END:STANDARD
END:VTIMEZONE
BEGIN:VEVENT
DTSTART;TZID=Europe/Paris:20240803T190000
DTEND;TZID=Europe/Paris:20240803T233000
DTSTAMP:20260422T150125
CREATED:20240626T071805Z
LAST-MODIFIED:20240626T071805Z
UID:8841-1722711600-1722727800@boulay-moselle.fr
SUMMARY:Fête patronale - Soirée Guinguette
DESCRIPTION:
URL:https://boulay-moselle.fr/event/fete-patronale-soiree-guinguette-3/
LOCATION:Parc de la Schanze\, Boulay-Moselle\, 57220\, France
CATEGORIES:ville
ORGANIZER;CN="CAB":MAILTO:boulay.ca@moselle.lgef.fr
END:VEVENT
BEGIN:VEVENT
DTSTART;TZID=Europe/Paris:20240804T083000
DTEND;TZID=Europe/Paris:20240804T170000
DTSTAMP:20260422T150125
CREATED:20240626T071908Z
LAST-MODIFIED:20240626T071908Z
UID:8843-1722760200-1722790800@boulay-moselle.fr
SUMMARY:Fête patronale - Brocante - Thé dansant
DESCRIPTION:
URL:https://boulay-moselle.fr/event/fete-patronale-brocante-the-dansant/
LOCATION:Parc de la Schanze\, Boulay-Moselle\, 57220\, France
CATEGORIES:ville
ORGANIZER;CN="CAB":MAILTO:boulay.ca@moselle.lgef.fr
END:VEVENT
BEGIN:VEVENT
DTSTART;TZID=Europe/Paris:20240819T150000
DTEND;TZID=Europe/Paris:20240819T190000
DTSTAMP:20260422T150125
CREATED:20240626T071954Z
LAST-MODIFIED:20240708T065600Z
UID:8845-1724079600-1724094000@boulay-moselle.fr
SUMMARY:Don de sang
DESCRIPTION:
URL:https://boulay-moselle.fr/event/don-de-sang-6/
LOCATION:Salle des fêtes – Complexe Isabelle Wendling\, route de bouzonville\, boulay-moselle\, 57220\, France
CATEGORIES:ville
END:VEVENT
BEGIN:VEVENT
DTSTART;TZID=Europe/Paris:20240824T100000
DTEND;TZID=Europe/Paris:20240825T180000
DTSTAMP:20260422T150125
CREATED:20240626T072116Z
LAST-MODIFIED:20240819T111900Z
UID:8847-1724493600-1724608800@boulay-moselle.fr
SUMMARY:Pays'an Fête
DESCRIPTION: 
URL:https://boulay-moselle.fr/event/paysan-fete/
LOCATION:Rue Sainte-Croix
CATEGORIES:ville
END:VEVENT
BEGIN:VEVENT
DTSTART;TZID=Europe/Paris:20240827T190000
DTEND;TZID=Europe/Paris:20240827T210000
DTSTAMP:20260422T150125
CREATED:20240819T053123Z
LAST-MODIFIED:20240819T053152Z
UID:9006-1724785200-1724792400@boulay-moselle.fr
SUMMARY:Festival de la culture au jardin
DESCRIPTION:Le collectif de musiciens ANGATCHALO vous présentera différentes musiques du monde : \nMardi 27 août 2024 à 19h au Parc de la Schanze à Boulay \nTarif : 10€ le spectacle – Gratuit pour les moins de 16 ans \nPréinscription fortement conseillée : odilefauregignoux@gmail.com ou 06 86 52 56 51
URL:https://boulay-moselle.fr/event/9006/
LOCATION:Parc de la Schanze\, Boulay-Moselle\, 57220\, France
CATEGORIES:ville
END:VEVENT
END:VCALENDAR