BEGIN:VCALENDAR
VERSION:2.0
PRODID:-//Ville de Boulay-Moselle - ECPv6.3.2//NONSGML v1.0//EN
CALSCALE:GREGORIAN
METHOD:PUBLISH
X-ORIGINAL-URL:https://boulay-moselle.fr
X-WR-CALDESC:évènements pour Ville de Boulay-Moselle
REFRESH-INTERVAL;VALUE=DURATION:PT1H
X-Robots-Tag:noindex
X-PUBLISHED-TTL:PT1H
BEGIN:VTIMEZONE
TZID:Europe/Paris
BEGIN:DAYLIGHT
TZOFFSETFROM:+0100
TZOFFSETTO:+0200
TZNAME:CEST
DTSTART:20240331T010000
END:DAYLIGHT
BEGIN:STANDARD
TZOFFSETFROM:+0200
TZOFFSETTO:+0100
TZNAME:CET
DTSTART:20241027T010000
END:STANDARD
END:VTIMEZONE
BEGIN:VEVENT
DTSTART;TZID=Europe/Paris:20240905T133000
DTEND;TZID=Europe/Paris:20240905T153000
DTSTAMP:20260422T134439
CREATED:20240819T052550Z
LAST-MODIFIED:20240819T052753Z
UID:9001-1725543000-1725550200@boulay-moselle.fr
SUMMARY:Atelier parental
DESCRIPTION:
URL:https://boulay-moselle.fr/event/atelier-parental-8/
LOCATION:Maison de la parentalité\, 3 bis rue Robert Schumann\, BOULAY\, 57220\, France
CATEGORIES:ville
END:VEVENT
BEGIN:VEVENT
DTSTART;TZID=Europe/Paris:20240906T183000
DTEND;TZID=Europe/Paris:20240906T200000
DTSTAMP:20260422T134439
CREATED:20240626T072205Z
LAST-MODIFIED:20240626T072205Z
UID:8850-1725647400-1725652800@boulay-moselle.fr
SUMMARY:Cérémonie des sportifs méritants
DESCRIPTION:
URL:https://boulay-moselle.fr/event/ceremonie-des-sportifs-meritants-2/
LOCATION:Salle des fêtes – Complexe Isabelle Wendling\, route de bouzonville\, boulay-moselle\, 57220\, France
CATEGORIES:ville
END:VEVENT
BEGIN:VEVENT
DTSTART;TZID=Europe/Paris:20240907T100000
DTEND;TZID=Europe/Paris:20240907T160000
DTSTAMP:20260422T134439
CREATED:20240626T072332Z
LAST-MODIFIED:20240626T072512Z
UID:8852-1725703200-1725724800@boulay-moselle.fr
SUMMARY:Forum des associations
DESCRIPTION:
URL:https://boulay-moselle.fr/event/forum-des-associations-4/
LOCATION:Salle omnisports – Complexe Isabelle Wendling\, route de Bouzonville\, BOULAY\, 57220\, France
CATEGORIES:ville
END:VEVENT
BEGIN:VEVENT
DTSTART;TZID=Europe/Paris:20240910T140000
DTEND;TZID=Europe/Paris:20240910T171500
DTSTAMP:20260422T134439
CREATED:20240904T085800Z
LAST-MODIFIED:20240904T085813Z
UID:9060-1725976800-1725988500@boulay-moselle.fr
SUMMARY:Thé dansant
DESCRIPTION:La Ruche Boulageoise organise un thé dansant : \nMardi 10 septembre 2024 de 14h à 17h15 \nSalle des Fêtes – Complexe Isabelle Wendling \nL’animation musicale sera assurée  par Romain CLAVE. \n  \nPrix d’entrée :  5€ par personne (boisson offerte avec votre entrée) \nInscriptions : \nDirectement à la ruche Boulageoise (6 impasse de l’Abattoir) ou auprès de M. FISTER par téléphone : 06 10 17 34 89 ou par mail : larucheboulageoise@outlook.fr
URL:https://boulay-moselle.fr/event/the-dansant/
LOCATION:Complexe Isabelle Wendling\, route de Bouzonville\, BOULAY-MOSELLE\, 57220\, France
CATEGORIES:ville
END:VEVENT
BEGIN:VEVENT
DTSTART;TZID=Europe/Paris:20240917T090000
DTEND;TZID=Europe/Paris:20240917T120000
DTSTAMP:20260422T134439
CREATED:20240909T083759Z
LAST-MODIFIED:20240909T083759Z
UID:9081-1726563600-1726574400@boulay-moselle.fr
SUMMARY:Atelier de Qi Gong
DESCRIPTION:
URL:https://boulay-moselle.fr/event/atelier-de-qi-gong/
LOCATION:Salle des fêtes – Complexe Isabelle Wendling\, route de bouzonville\, boulay-moselle\, 57220\, France
CATEGORIES:ville
END:VEVENT
BEGIN:VEVENT
DTSTART;TZID=Europe/Paris:20240921T180000
DTEND;TZID=Europe/Paris:20240922T030000
DTSTAMP:20260422T134439
CREATED:20240722T084811Z
LAST-MODIFIED:20240819T120346Z
UID:8947-1726941600-1726974000@boulay-moselle.fr
SUMMARY:Fête de la Bière
DESCRIPTION:
URL:https://boulay-moselle.fr/event/fete-de-la-biere/
LOCATION:Salle omnisports – Complexe Isabelle Wendling\, route de Bouzonville\, BOULAY\, 57220\, France
CATEGORIES:ville
END:VEVENT
BEGIN:VEVENT
DTSTART;TZID=Europe/Paris:20240925T090000
DTEND;TZID=Europe/Paris:20240925T100000
DTSTAMP:20260422T134439
CREATED:20240909T083527Z
LAST-MODIFIED:20240909T083527Z
UID:9075-1727254800-1727258400@boulay-moselle.fr
SUMMARY:Boostez votre forme
DESCRIPTION:
URL:https://boulay-moselle.fr/event/boostez-votre-forme/
LOCATION:Complexe Isabelle Wendling\, route de Bouzonville\, BOULAY-MOSELLE\, 57220\, France
CATEGORIES:ville
END:VEVENT
BEGIN:VEVENT
DTSTART;TZID=Europe/Paris:20240929T093000
DTEND;TZID=Europe/Paris:20240929T170000
DTSTAMP:20260422T134439
CREATED:20240918T083529Z
LAST-MODIFIED:20240918T083529Z
UID:9119-1727602200-1727629200@boulay-moselle.fr
SUMMARY:Journée vélo "Roulez Boulay"
DESCRIPTION:
URL:https://boulay-moselle.fr/event/journee-velo-roulez-boulay/
LOCATION:Stade Charles Muller\, route de Bouzonville\, boulay-moselle\, 57220\, France
CATEGORIES:ville
END:VEVENT
END:VCALENDAR