BEGIN:VCALENDAR
VERSION:2.0
PRODID:-//Ville de Boulay-Moselle - ECPv6.3.2//NONSGML v1.0//EN
CALSCALE:GREGORIAN
METHOD:PUBLISH
X-WR-CALNAME:Ville de Boulay-Moselle
X-ORIGINAL-URL:https://boulay-moselle.fr
X-WR-CALDESC:évènements pour Ville de Boulay-Moselle
REFRESH-INTERVAL;VALUE=DURATION:PT1H
X-Robots-Tag:noindex
X-PUBLISHED-TTL:PT1H
BEGIN:VTIMEZONE
TZID:Europe/Paris
BEGIN:DAYLIGHT
TZOFFSETFROM:+0100
TZOFFSETTO:+0200
TZNAME:CEST
DTSTART:20240331T010000
END:DAYLIGHT
BEGIN:STANDARD
TZOFFSETFROM:+0200
TZOFFSETTO:+0100
TZNAME:CET
DTSTART:20241027T010000
END:STANDARD
END:VTIMEZONE
BEGIN:VEVENT
DTSTART;TZID=Europe/Paris:20240520T080000
DTEND;TZID=Europe/Paris:20240520T160000
DTSTAMP:20260423T155224
CREATED:20240503T142524Z
LAST-MODIFIED:20240519T154828Z
UID:8588-1716192000-1716220800@boulay-moselle.fr
SUMMARY:Marche du Ban Saint Jean ANNULÉE
DESCRIPTION:
URL:https://boulay-moselle.fr/event/marche-du-ban-saint-jean/
CATEGORIES:ville
END:VEVENT
BEGIN:VEVENT
DTSTART;TZID=Europe/Paris:20240520T080000
DTEND;TZID=Europe/Paris:20240520T180000
DTSTAMP:20260423T155224
CREATED:20240327T130438Z
LAST-MODIFIED:20240517T122339Z
UID:8465-1716192000-1716228000@boulay-moselle.fr
SUMMARY:Vide-Greniers ANNULE
DESCRIPTION:
URL:https://boulay-moselle.fr/event/vide-greniers-2/
LOCATION:Halling-Lès-Boulay\, Halling-les-Boulay\, France
CATEGORIES:ville
ORGANIZER;CN="Association Rurale et Culturelle de Halling-L%C3%A8s-Boulay":MAILTO:archalling@gmail.com
END:VEVENT
BEGIN:VEVENT
DTSTART;TZID=Europe/Paris:20240520T110000
DTEND;TZID=Europe/Paris:20240520T160000
DTSTAMP:20260423T155224
CREATED:20240429T070236Z
LAST-MODIFIED:20240429T070846Z
UID:8574-1716202800-1716220800@boulay-moselle.fr
SUMMARY:1er tour du Challenge 57 d'athlétisme
DESCRIPTION:
URL:https://boulay-moselle.fr/event/challenge-57-1er-tour-athletisme/
LOCATION:Stade Charles Muller\, route de Bouzonville\, boulay-moselle\, 57220\, France
CATEGORIES:ville
END:VEVENT
END:VCALENDAR