BEGIN:VCALENDAR
VERSION:2.0
PRODID:-//Ville de Boulay-Moselle - ECPv6.3.2//NONSGML v1.0//EN
CALSCALE:GREGORIAN
METHOD:PUBLISH
X-WR-CALNAME:Ville de Boulay-Moselle
X-ORIGINAL-URL:https://boulay-moselle.fr
X-WR-CALDESC:évènements pour Ville de Boulay-Moselle
REFRESH-INTERVAL;VALUE=DURATION:PT1H
X-Robots-Tag:noindex
X-PUBLISHED-TTL:PT1H
BEGIN:VTIMEZONE
TZID:Europe/Paris
BEGIN:DAYLIGHT
TZOFFSETFROM:+0100
TZOFFSETTO:+0200
TZNAME:CEST
DTSTART:20240331T010000
END:DAYLIGHT
BEGIN:STANDARD
TZOFFSETFROM:+0200
TZOFFSETTO:+0100
TZNAME:CET
DTSTART:20241027T010000
END:STANDARD
END:VTIMEZONE
BEGIN:VEVENT
DTSTART;TZID=Europe/Paris:20241123T103000
DTEND;TZID=Europe/Paris:20241123T150000
DTSTAMP:20260422T181404
CREATED:20241021T064126Z
LAST-MODIFIED:20241021T064126Z
UID:9256-1732357800-1732374000@boulay-moselle.fr
SUMMARY:50 ans de l'ACB - Assemblée Générale
DESCRIPTION:
URL:https://boulay-moselle.fr/event/50-ans-de-lacb-assemblee-generale/
LOCATION:Salle des fêtes – Complexe Isabelle Wendling\, route de bouzonville\, boulay-moselle\, 57220\, France
CATEGORIES:ville
END:VEVENT
BEGIN:VEVENT
DTSTART;TZID=Europe/Paris:20241123T203000
DTEND;TZID=Europe/Paris:20241123T220000
DTSTAMP:20260422T181404
CREATED:20240923T065239Z
LAST-MODIFIED:20241106T124638Z
UID:9144-1732393800-1732399200@boulay-moselle.fr
SUMMARY:Théâtre
DESCRIPTION:
URL:https://boulay-moselle.fr/event/theatre-2/
LOCATION:Salle St-Etienne\, Place Jean XXIII\, BOULAY\, 57220\, France
CATEGORIES:ville
END:VEVENT
END:VCALENDAR