BEGIN:VCALENDAR
VERSION:2.0
PRODID:-//Ville de Boulay-Moselle - ECPv6.3.2//NONSGML v1.0//EN
CALSCALE:GREGORIAN
METHOD:PUBLISH
X-WR-CALNAME:Ville de Boulay-Moselle
X-ORIGINAL-URL:https://boulay-moselle.fr
X-WR-CALDESC:évènements pour Ville de Boulay-Moselle
REFRESH-INTERVAL;VALUE=DURATION:PT1H
X-Robots-Tag:noindex
X-PUBLISHED-TTL:PT1H
BEGIN:VTIMEZONE
TZID:Europe/Paris
BEGIN:DAYLIGHT
TZOFFSETFROM:+0100
TZOFFSETTO:+0200
TZNAME:CEST
DTSTART:20240331T010000
END:DAYLIGHT
BEGIN:STANDARD
TZOFFSETFROM:+0200
TZOFFSETTO:+0100
TZNAME:CET
DTSTART:20241027T010000
END:STANDARD
END:VTIMEZONE
BEGIN:VEVENT
DTSTART;TZID=Europe/Paris:20241214T110000
DTEND;TZID=Europe/Paris:20241214T190000
DTSTAMP:20260422T164420
CREATED:20240923T065624Z
LAST-MODIFIED:20241121T124911Z
UID:9156-1734174000-1734202800@boulay-moselle.fr
SUMMARY:Marché de Noël
DESCRIPTION:
URL:https://boulay-moselle.fr/event/marche-de-noel-10/
LOCATION:Parc de la Schanze\, Boulay-Moselle\, 57220\, France
CATEGORIES:ville
END:VEVENT
BEGIN:VEVENT
DTSTART;TZID=Europe/Paris:20241214T150000
DTEND;TZID=Europe/Paris:20241214T180000
DTSTAMP:20260422T164420
CREATED:20240923T065946Z
LAST-MODIFIED:20241211T124735Z
UID:9166-1734188400-1734199200@boulay-moselle.fr
SUMMARY:Exposition des crèches du monde
DESCRIPTION:
URL:https://boulay-moselle.fr/event/exposition-des-creches-du-monde-2/
LOCATION:Salle St-Etienne\, Place Jean XXIII\, BOULAY\, 57220\, France
CATEGORIES:ville
END:VEVENT
END:VCALENDAR