BEGIN:VCALENDAR
VERSION:2.0
PRODID:-//Ville de Boulay-Moselle - ECPv6.3.2//NONSGML v1.0//EN
CALSCALE:GREGORIAN
METHOD:PUBLISH
X-WR-CALNAME:Ville de Boulay-Moselle
X-ORIGINAL-URL:https://boulay-moselle.fr
X-WR-CALDESC:évènements pour Ville de Boulay-Moselle
REFRESH-INTERVAL;VALUE=DURATION:PT1H
X-Robots-Tag:noindex
X-PUBLISHED-TTL:PT1H
BEGIN:VTIMEZONE
TZID:Europe/Paris
BEGIN:DAYLIGHT
TZOFFSETFROM:+0100
TZOFFSETTO:+0200
TZNAME:CEST
DTSTART:20240331T010000
END:DAYLIGHT
BEGIN:STANDARD
TZOFFSETFROM:+0200
TZOFFSETTO:+0100
TZNAME:CET
DTSTART:20241027T010000
END:STANDARD
BEGIN:DAYLIGHT
TZOFFSETFROM:+0100
TZOFFSETTO:+0200
TZNAME:CEST
DTSTART:20250330T010000
END:DAYLIGHT
BEGIN:STANDARD
TZOFFSETFROM:+0200
TZOFFSETTO:+0100
TZNAME:CET
DTSTART:20251026T010000
END:STANDARD
END:VTIMEZONE
BEGIN:VEVENT
DTSTART;TZID=Europe/Paris:20241205T083000
DTEND;TZID=Europe/Paris:20241205T190000
DTSTAMP:20260423T105547
CREATED:20240923T065438Z
LAST-MODIFIED:20240923T065438Z
UID:9148-1733387400-1733425200@boulay-moselle.fr
SUMMARY:Redotation sacs multiflux
DESCRIPTION:
URL:https://boulay-moselle.fr/event/redotation-sacs-multiflux-2/
LOCATION:Complexe Isabelle Wendling\, route de Bouzonville\, BOULAY-MOSELLE\, 57220\, France
CATEGORIES:ville
END:VEVENT
BEGIN:VEVENT
DTSTART;TZID=Europe/Paris:20241207T110000
DTEND;TZID=Europe/Paris:20241207T190000
DTSTAMP:20260423T105547
CREATED:20240923T065559Z
LAST-MODIFIED:20241121T125007Z
UID:9154-1733569200-1733598000@boulay-moselle.fr
SUMMARY:Marché de Noël
DESCRIPTION:
URL:https://boulay-moselle.fr/event/marche-de-noel-9/
LOCATION:Parc de la Schanze\, Boulay-Moselle\, 57220\, France
CATEGORIES:ville
END:VEVENT
BEGIN:VEVENT
DTSTART;TZID=Europe/Paris:20241208T110000
DTEND;TZID=Europe/Paris:20241208T173000
DTSTAMP:20260423T105547
CREATED:20240923T065654Z
LAST-MODIFIED:20241121T124930Z
UID:9158-1733655600-1733679000@boulay-moselle.fr
SUMMARY:Marché de Noël
DESCRIPTION:
URL:https://boulay-moselle.fr/event/marche-de-noel-11/
LOCATION:Parc de la Schanze\, Boulay-Moselle\, 57220\, France
CATEGORIES:ville
END:VEVENT
BEGIN:VEVENT
DTSTART;TZID=Europe/Paris:20241208T143000
DTEND;TZID=Europe/Paris:20241208T153000
DTSTAMP:20260423T105547
CREATED:20240923T065821Z
LAST-MODIFIED:20241121T125224Z
UID:9162-1733668200-1733671800@boulay-moselle.fr
SUMMARY:Défilé de Saint-Nicolas
DESCRIPTION:
URL:https://boulay-moselle.fr/event/defile-de-saint-nicolas-4/
CATEGORIES:ville
END:VEVENT
BEGIN:VEVENT
DTSTART;TZID=Europe/Paris:20241211T140000
DTEND;TZID=Europe/Paris:20241211T160000
DTSTAMP:20260423T105547
CREATED:20241121T095725Z
LAST-MODIFIED:20241121T100437Z
UID:9354-1733925600-1733932800@boulay-moselle.fr
SUMMARY:Fête de Noël
DESCRIPTION:
URL:https://boulay-moselle.fr/event/fete-de-noel-2/
LOCATION:Maison du Département\, 6 rue Robert Schuman\, BOULAY\, 57220\, France
CATEGORIES:ville
END:VEVENT
BEGIN:VEVENT
DTSTART;TZID=Europe/Paris:20241213T150000
DTEND;TZID=Europe/Paris:20241213T180000
DTSTAMP:20260423T105547
CREATED:20240923T065922Z
LAST-MODIFIED:20241211T124752Z
UID:9164-1734102000-1734112800@boulay-moselle.fr
SUMMARY:Exposition des crèches du monde
DESCRIPTION:
URL:https://boulay-moselle.fr/event/exposition-des-creches-du-monde/
LOCATION:Salle St-Etienne\, Place Jean XXIII\, BOULAY\, 57220\, France
CATEGORIES:ville
END:VEVENT
BEGIN:VEVENT
DTSTART;TZID=Europe/Paris:20241214T110000
DTEND;TZID=Europe/Paris:20241214T190000
DTSTAMP:20260423T105547
CREATED:20240923T065624Z
LAST-MODIFIED:20241121T124911Z
UID:9156-1734174000-1734202800@boulay-moselle.fr
SUMMARY:Marché de Noël
DESCRIPTION:
URL:https://boulay-moselle.fr/event/marche-de-noel-10/
LOCATION:Parc de la Schanze\, Boulay-Moselle\, 57220\, France
CATEGORIES:ville
END:VEVENT
BEGIN:VEVENT
DTSTART;TZID=Europe/Paris:20241214T150000
DTEND;TZID=Europe/Paris:20241214T180000
DTSTAMP:20260423T105547
CREATED:20240923T065946Z
LAST-MODIFIED:20241211T124735Z
UID:9166-1734188400-1734199200@boulay-moselle.fr
SUMMARY:Exposition des crèches du monde
DESCRIPTION:
URL:https://boulay-moselle.fr/event/exposition-des-creches-du-monde-2/
LOCATION:Salle St-Etienne\, Place Jean XXIII\, BOULAY\, 57220\, France
CATEGORIES:ville
END:VEVENT
BEGIN:VEVENT
DTSTART;TZID=Europe/Paris:20241215T080000
DTEND;TZID=Europe/Paris:20250126T170000
DTSTAMP:20260423T105547
CREATED:20240923T071057Z
LAST-MODIFIED:20240923T073027Z
UID:9172-1734249600-1737910800@boulay-moselle.fr
SUMMARY:La route des crèches
DESCRIPTION:
URL:https://boulay-moselle.fr/event/la-route-des-creches/
LOCATION:Eglise Saint-Etienne\, rue Jean XXIII\, boulay-moselle\, 57220\, France
CATEGORIES:ville
END:VEVENT
BEGIN:VEVENT
DTSTART;TZID=Europe/Paris:20241215T150000
DTEND;TZID=Europe/Paris:20241215T163000
DTSTAMP:20260423T105547
CREATED:20241209T070820Z
LAST-MODIFIED:20241209T070820Z
UID:9410-1734274800-1734280200@boulay-moselle.fr
SUMMARY:Concert de l'école de Musique et de Danse
DESCRIPTION:
URL:https://boulay-moselle.fr/event/concert-de-lecole-de-musique-et-de-danse/
LOCATION:Eglise Saint-Etienne\, rue Jean XXIII\, boulay-moselle\, 57220\, France
CATEGORIES:ville
END:VEVENT
BEGIN:VEVENT
DTSTART;TZID=Europe/Paris:20241215T150000
DTEND;TZID=Europe/Paris:20241215T180000
DTSTAMP:20260423T105547
CREATED:20240923T070018Z
LAST-MODIFIED:20241211T124717Z
UID:9168-1734274800-1734285600@boulay-moselle.fr
SUMMARY:Exposition des crèches du monde
DESCRIPTION:
URL:https://boulay-moselle.fr/event/exposition-des-creches-du-monde-3/
LOCATION:Salle St-Etienne\, Place Jean XXIII\, BOULAY\, 57220\, France
CATEGORIES:ville
END:VEVENT
END:VCALENDAR