BEGIN:VCALENDAR
VERSION:2.0
PRODID:-//Ville de Boulay-Moselle - ECPv6.3.2//NONSGML v1.0//EN
CALSCALE:GREGORIAN
METHOD:PUBLISH
X-WR-CALNAME:Ville de Boulay-Moselle
X-ORIGINAL-URL:https://boulay-moselle.fr
X-WR-CALDESC:évènements pour Ville de Boulay-Moselle
REFRESH-INTERVAL;VALUE=DURATION:PT1H
X-Robots-Tag:noindex
X-PUBLISHED-TTL:PT1H
BEGIN:VTIMEZONE
TZID:Europe/Paris
BEGIN:DAYLIGHT
TZOFFSETFROM:+0100
TZOFFSETTO:+0200
TZNAME:CEST
DTSTART:20250330T010000
END:DAYLIGHT
BEGIN:STANDARD
TZOFFSETFROM:+0200
TZOFFSETTO:+0100
TZNAME:CET
DTSTART:20251026T010000
END:STANDARD
END:VTIMEZONE
BEGIN:VEVENT
DTSTART;TZID=Europe/Paris:20250701T110000
DTEND;TZID=Europe/Paris:20250701T120000
DTSTAMP:20260423T105553
CREATED:20250519T130733Z
LAST-MODIFIED:20250519T130733Z
UID:9889-1751367600-1751371200@boulay-moselle.fr
SUMMARY:Inauguration de la Place Julie-Victoire Daubié
DESCRIPTION:
URL:https://boulay-moselle.fr/event/inauguration-de-la-place-julie-victoire-daubie/
LOCATION:Rue Robert Schuman\, rue Robert Schuman\, boulay-moselle\, 57220\, France
CATEGORIES:ville
END:VEVENT
BEGIN:VEVENT
DTSTART;TZID=Europe/Paris:20250705T080000
DTEND;TZID=Europe/Paris:20250705T190000
DTSTAMP:20260423T105553
CREATED:20250519T130828Z
LAST-MODIFIED:20250625T094428Z
UID:9891-1751702400-1751742000@boulay-moselle.fr
SUMMARY:Braderie d'été
DESCRIPTION:
URL:https://boulay-moselle.fr/event/braderie-et-marche-artisanal-de-lucab/
LOCATION:Centre-ville\, Place de la République\, BOULAY\, 57220\, France
CATEGORIES:ville
END:VEVENT
BEGIN:VEVENT
DTSTART;TZID=Europe/Paris:20250713T180000
DTEND;TZID=Europe/Paris:20250713T235000
DTSTAMP:20260423T105553
CREATED:20250519T131016Z
LAST-MODIFIED:20250625T074923Z
UID:9895-1752429600-1752450600@boulay-moselle.fr
SUMMARY:Fête nationale
DESCRIPTION:
URL:https://boulay-moselle.fr/event/fete-nationale-4/
LOCATION:Parc de la Schanze\, Boulay-Moselle\, 57220\, France
CATEGORIES:ville
END:VEVENT
BEGIN:VEVENT
DTSTART;TZID=Europe/Paris:20250720T140000
DTEND;TZID=Europe/Paris:20250720T170000
DTSTAMP:20260423T105553
CREATED:20250618T081652Z
LAST-MODIFIED:20250718T093703Z
UID:10043-1753020000-1753030800@boulay-moselle.fr
SUMMARY:Les Estivales de la Schanze – Ateliers créatifs en liberté 🎨
DESCRIPTION:En raison de la météo défavorable annoncée \, cet événement se déroulera à la salle Omnisports (Complexe Isabelle Wendling) \nVenez découvrir l’association « Pas Assez de Metz » qui propose un après-midi ludique et artistique ou chacun pourra s’exprimer librement. \nAu programme : \n\nAteliers de découverte des instruments du monde🎶 🎵\nJeux coopératifs 🤝\nCoins créatifs permanents (confection de badges\, déguisement\, initiations au cirque et jeux en bois)\n\nÉvénement Gratuit – Aucune inscription requise
URL:https://boulay-moselle.fr/event/les-estivales-de-la-schanze-ateliers-creatifs-en-liberte-%f0%9f%8e%a8/
LOCATION:Salle omnisports – Complexe Isabelle Wendling\, route de Bouzonville\, BOULAY\, 57220\, France
CATEGORIES:ville
END:VEVENT
BEGIN:VEVENT
DTSTART;TZID=Europe/Paris:20250726T100000
DTEND;TZID=Europe/Paris:20250727T170000
DTSTAMP:20260423T105553
CREATED:20250721T133502Z
LAST-MODIFIED:20250721T133534Z
UID:10162-1753524000-1753635600@boulay-moselle.fr
SUMMARY:Week-end médiéval
DESCRIPTION:Plongez dans l’Histoire avec l’Association d’Escrime ! 🤺 \n📆 Ce samedi et dimanche\, 35 passionnés de reconstitution historique de l’Association d’Escrime de Boulay et des Environs vont planter leur bivouac au Parc de la Schanze ! 🏕 \n👉 Venez découvrir des démonstrations de matériel\, des combats historiques : un véritable voyage dans le temps de l’époque Viking jusqu’à Napoléon ! \nDes tirs de mortiers sont prévus : \n🔷 Samedi 26/07 à 14h \n🔷 Dimanche 27/07 à 13h et à 15h \n➡ Pas d’inquiétude : ce sont des démonstrations sécurisées dans le cadre de l’événement.  \n🤩 Et pour profiter pleinement de l’ambiance conviviale\, assistez au pique-nique géant organisé par la Ville ce dimanche de 11h30 à 15h ! 🧺🥪 \n👉 Apportez votre nappe\, votre repas et partagez un bon moment en famille ou entre amis. \n📍Rendez-vous au parc de la Schanze pour un week-end hors du temps.
URL:https://boulay-moselle.fr/event/week-end-medieval/
LOCATION:Parc de la Schanze\, Boulay-Moselle\, 57220\, France
CATEGORIES:ville
END:VEVENT
BEGIN:VEVENT
DTSTART;TZID=Europe/Paris:20250727T113000
DTEND;TZID=Europe/Paris:20250727T150000
DTSTAMP:20260423T105553
CREATED:20250618T082021Z
LAST-MODIFIED:20250721T133602Z
UID:10045-1753615800-1753628400@boulay-moselle.fr
SUMMARY:Les Estivales de la Schanze –  pique-nique géant 🧺 🥪
DESCRIPTION:Venez passer un moment de détente et installez-vous sous les arbres avec votre panier repas et votre nappe à carreaux pour partager un bon moment. \nAu programme :  \n\nDes jeux en bois seront à disposition et des animations seront proposées par le club ados dès 11h30\nA 13h\, rendez-vous devant la guinguette : Inès Gallet vous racontera l’histoire en déambulation dans le parc « Les gardiens du parc endormi » 📖 🧙‍♂️\n\n \n  \nAucune inscription requise – Gratuit
URL:https://boulay-moselle.fr/event/les-estivales-de-la-schanze-pique-nique-geant-%f0%9f%a7%ba-%f0%9f%a5%aa/
LOCATION:Parc de la Schanze\, Boulay-Moselle\, 57220\, France
CATEGORIES:ville
END:VEVENT
END:VCALENDAR