BEGIN:VCALENDAR
VERSION:2.0
PRODID:-//Ville de Boulay-Moselle - ECPv6.3.2//NONSGML v1.0//EN
CALSCALE:GREGORIAN
METHOD:PUBLISH
X-ORIGINAL-URL:https://boulay-moselle.fr
X-WR-CALDESC:évènements pour Ville de Boulay-Moselle
REFRESH-INTERVAL;VALUE=DURATION:PT1H
X-Robots-Tag:noindex
X-PUBLISHED-TTL:PT1H
BEGIN:VTIMEZONE
TZID:Europe/Paris
BEGIN:DAYLIGHT
TZOFFSETFROM:+0100
TZOFFSETTO:+0200
TZNAME:CEST
DTSTART:20250330T010000
END:DAYLIGHT
BEGIN:STANDARD
TZOFFSETFROM:+0200
TZOFFSETTO:+0100
TZNAME:CET
DTSTART:20251026T010000
END:STANDARD
END:VTIMEZONE
BEGIN:VEVENT
DTSTART;TZID=Europe/Paris:20250905T180000
DTEND;TZID=Europe/Paris:20250905T200000
DTSTAMP:20260422T103707
CREATED:20250811T063757Z
LAST-MODIFIED:20250811T063757Z
UID:10212-1757095200-1757102400@boulay-moselle.fr
SUMMARY:Cérémonie des sportifs méritants
DESCRIPTION:
URL:https://boulay-moselle.fr/event/ceremonie-des-sportifs-meritants-3/
LOCATION:Salle des fêtes – Complexe Isabelle Wendling\, route de bouzonville\, boulay-moselle\, 57220\, France
CATEGORIES:ville
END:VEVENT
BEGIN:VEVENT
DTSTART;TZID=Europe/Paris:20250906T100000
DTEND;TZID=Europe/Paris:20250906T160000
DTSTAMP:20260422T103707
CREATED:20250811T064225Z
LAST-MODIFIED:20250811T100912Z
UID:10214-1757152800-1757174400@boulay-moselle.fr
SUMMARY:Forum des associations
DESCRIPTION:
URL:https://boulay-moselle.fr/event/forum-des-associations-5/
LOCATION:Salle omnisports – Complexe Isabelle Wendling\, route de Bouzonville\, BOULAY\, 57220\, France
CATEGORIES:ville
END:VEVENT
BEGIN:VEVENT
DTSTART;TZID=Europe/Paris:20250907T090000
DTEND;TZID=Europe/Paris:20250907T130000
DTSTAMP:20260422T103707
CREATED:20250820T102955Z
LAST-MODIFIED:20250820T102955Z
UID:10233-1757235600-1757250000@boulay-moselle.fr
SUMMARY:Portes ouvertes Tennis Club
DESCRIPTION:
URL:https://boulay-moselle.fr/event/portes-ouvertes-tennis-club/
LOCATION:Bulles de tennis\, 12 rue Robert Schuman\, BOULAY-MOSELLE\, 57220\, France
CATEGORIES:ville
END:VEVENT
BEGIN:VEVENT
DTSTART;TZID=Europe/Paris:20250919T090000
DTEND;TZID=Europe/Paris:20250919T110000
DTSTAMP:20260422T103707
CREATED:20250915T062932Z
LAST-MODIFIED:20250915T090240Z
UID:9771-1758272400-1758279600@boulay-moselle.fr
SUMMARY:Permanence UNIAT
DESCRIPTION:
URL:https://boulay-moselle.fr/event/permanence-uniat-7/
LOCATION:France Services
CATEGORIES:ville
END:VEVENT
BEGIN:VEVENT
DTSTART;TZID=Europe/Paris:20250920T180000
DTEND;TZID=Europe/Paris:20250920T235000
DTSTAMP:20260422T103707
CREATED:20250521T075657Z
LAST-MODIFIED:20250715T055457Z
UID:9922-1758391200-1758412200@boulay-moselle.fr
SUMMARY:Oktoberfest
DESCRIPTION:
URL:https://boulay-moselle.fr/event/oktoberfest/
LOCATION:Complexe Isabelle Wendling\, route de Bouzonville\, BOULAY-MOSELLE\, 57220\, France
CATEGORIES:ville
END:VEVENT
BEGIN:VEVENT
DTSTART;TZID=Europe/Paris:20250926T200000
DTEND;TZID=Europe/Paris:20250926T220000
DTSTAMP:20260422T103707
CREATED:20250915T093401Z
LAST-MODIFIED:20250915T093412Z
UID:10321-1758916800-1758924000@boulay-moselle.fr
SUMMARY:Boulay By Night
DESCRIPTION:Découvrez votre ville comme vous ne l’avez jamais vue. Sous la conduite de Robert Bajetti et Joris Matyja\, la ville dévoile ses secrets et ses anecdotes. \nInscription sur : https://boulay-moselle.mapado.com/
URL:https://boulay-moselle.fr/event/boulay-by-night/
LOCATION:Parc de la Schanze\, Boulay-Moselle\, 57220\, France
CATEGORIES:ville
END:VEVENT
BEGIN:VEVENT
DTSTART;TZID=Europe/Paris:20250927T100000
DTEND;TZID=Europe/Paris:20250927T120000
DTSTAMP:20260422T103707
CREATED:20250919T131414Z
LAST-MODIFIED:20250919T131414Z
UID:10387-1758967200-1758974400@boulay-moselle.fr
SUMMARY:Retrait des dossards La Boulageoise
DESCRIPTION:Le retrait des dossards de La Boulageoise aura lieu au parc de la Schanze de 10h à 12h \n 
URL:https://boulay-moselle.fr/event/retrait-des-dossards-la-boulageoise-3/
LOCATION:Parc de la Schanze\, Boulay-Moselle\, 57220\, France
CATEGORIES:ville
END:VEVENT
END:VCALENDAR