BEGIN:VCALENDAR
VERSION:2.0
PRODID:-//Ville de Boulay-Moselle - ECPv6.3.2//NONSGML v1.0//EN
CALSCALE:GREGORIAN
METHOD:PUBLISH
X-WR-CALNAME:Ville de Boulay-Moselle
X-ORIGINAL-URL:https://boulay-moselle.fr
X-WR-CALDESC:évènements pour Ville de Boulay-Moselle
REFRESH-INTERVAL;VALUE=DURATION:PT1H
X-Robots-Tag:noindex
X-PUBLISHED-TTL:PT1H
BEGIN:VTIMEZONE
TZID:Europe/Paris
BEGIN:DAYLIGHT
TZOFFSETFROM:+0100
TZOFFSETTO:+0200
TZNAME:CEST
DTSTART:20250330T010000
END:DAYLIGHT
BEGIN:STANDARD
TZOFFSETFROM:+0200
TZOFFSETTO:+0100
TZNAME:CET
DTSTART:20251026T010000
END:STANDARD
END:VTIMEZONE
BEGIN:VEVENT
DTSTART;TZID=Europe/Paris:20251003T160000
DTEND;TZID=Europe/Paris:20251003T180000
DTSTAMP:20260422T120055
CREATED:20250919T131135Z
LAST-MODIFIED:20250919T131135Z
UID:10385-1759507200-1759514400@boulay-moselle.fr
SUMMARY:Retrait des dossards La Boulageoise
DESCRIPTION:Le retrait des dossards de La Boulageoise aura lieu au parc de la Schanze de 16h à 18h \n 
URL:https://boulay-moselle.fr/event/retrait-des-dossards-la-boulageoise-2/
LOCATION:Parc de la Schanze\, Boulay-Moselle\, 57220\, France
CATEGORIES:ville
END:VEVENT
BEGIN:VEVENT
DTSTART;TZID=Europe/Paris:20251004T100000
DTEND;TZID=Europe/Paris:20251004T120000
DTSTAMP:20260422T120055
CREATED:20250919T130812Z
LAST-MODIFIED:20250919T131221Z
UID:10382-1759572000-1759579200@boulay-moselle.fr
SUMMARY:Retrait des dossards La Boulageoise
DESCRIPTION:Le retrait des dossards de La Boulageoise aura lieu au parc de la Schanze de 10h à 12h \n 
URL:https://boulay-moselle.fr/event/retrait-des-dossards-la-boulageoise/
LOCATION:Parc de la Schanze\, Boulay-Moselle\, 57220\, France
CATEGORIES:ville
END:VEVENT
BEGIN:VEVENT
DTSTART;TZID=Europe/Paris:20251004T200000
DTEND;TZID=Europe/Paris:20251004T213000
DTSTAMP:20260422T120055
CREATED:20250924T064902Z
LAST-MODIFIED:20250924T064943Z
UID:10402-1759608000-1759613400@boulay-moselle.fr
SUMMARY:Théâtre
DESCRIPTION:
URL:https://boulay-moselle.fr/event/theatre-4/
LOCATION:Salle St-Etienne\, Place Jean XXIII\, BOULAY\, 57220\, France
CATEGORIES:ville
END:VEVENT
BEGIN:VEVENT
DTSTART;TZID=Europe/Paris:20251005T090000
DTEND;TZID=Europe/Paris:20251005T120000
DTSTAMP:20260422T120055
CREATED:20250811T064352Z
LAST-MODIFIED:20250919T131609Z
UID:10216-1759654800-1759665600@boulay-moselle.fr
SUMMARY:Octobre Rose : La Boulageoise
DESCRIPTION:Informations pratiques retrait des dossards : \n\n Samedi 27 septembre → 10h à 12h\n Vendredi 3 octobre → 16h à 18h\n Samedi 4 octobre → 10h à 12h\n\n\n\n\n Rendez-vous à la Halle du parc de la Schanze à BOULAY\n\n 
URL:https://boulay-moselle.fr/event/octobre-rose-la-boulageoise/
LOCATION:Place du Colonel Ving\, place du Colonel Ving\, Boulay-Moselle\, 57220\, France
CATEGORIES:ville
END:VEVENT
BEGIN:VEVENT
DTSTART;TZID=Europe/Paris:20251005T143000
DTEND;TZID=Europe/Paris:20251005T190000
DTSTAMP:20260422T120055
CREATED:20250820T103408Z
LAST-MODIFIED:20250820T103408Z
UID:10236-1759674600-1759690800@boulay-moselle.fr
SUMMARY:Loto du Tennis Club
DESCRIPTION:
URL:https://boulay-moselle.fr/event/loto-du-tennis-club/
LOCATION:Salle omnisports – Complexe Isabelle Wendling\, route de Bouzonville\, BOULAY\, 57220\, France
CATEGORIES:ville
END:VEVENT
BEGIN:VEVENT
DTSTART;TZID=Europe/Paris:20251008T103000
DTEND;TZID=Europe/Paris:20251008T120000
DTSTAMP:20260422T120055
CREATED:20250926T064722Z
LAST-MODIFIED:20250926T064722Z
UID:10416-1759919400-1759924800@boulay-moselle.fr
SUMMARY:Conférence " Retrouvez son énergie et sa joie de vivre"
DESCRIPTION:
URL:https://boulay-moselle.fr/event/conference-retrouvez-son-energie-et-sa-joie-de-vivre/
LOCATION:la Ruche\, 6 impasse de l'Abattoir\, Boulay-Moselle\, 57220\, France
CATEGORIES:ville
END:VEVENT
BEGIN:VEVENT
DTSTART;TZID=Europe/Paris:20251008T150000
DTEND;TZID=Europe/Paris:20251008T170000
DTSTAMP:20260422T120055
CREATED:20250806T070552Z
LAST-MODIFIED:20250806T070719Z
UID:10204-1759935600-1759942800@boulay-moselle.fr
SUMMARY:One man show
DESCRIPTION:
URL:https://boulay-moselle.fr/event/one-man-show/
LOCATION:Salle St-Etienne\, Place Jean XXIII\, BOULAY\, 57220\, France
CATEGORIES:ville
END:VEVENT
BEGIN:VEVENT
DTSTART;TZID=Europe/Paris:20251011T100000
DTEND;TZID=Europe/Paris:20251011T180000
DTSTAMP:20260422T120055
CREATED:20251006T070916Z
LAST-MODIFIED:20251006T071039Z
UID:10455-1760176800-1760205600@boulay-moselle.fr
SUMMARY:Exposition avicole et salon du bien-être
DESCRIPTION:
URL:https://boulay-moselle.fr/event/exposition-avicole-et-salon-du-bien-etre-4/
LOCATION:Complexe Isabelle Wendling\, route de Bouzonville\, BOULAY-MOSELLE\, 57220\, France
CATEGORIES:ville
END:VEVENT
BEGIN:VEVENT
DTSTART;TZID=Europe/Paris:20251012T100000
DTEND;TZID=Europe/Paris:20251012T180000
DTSTAMP:20260422T120055
CREATED:20251006T071108Z
LAST-MODIFIED:20251006T071108Z
UID:10457-1760263200-1760292000@boulay-moselle.fr
SUMMARY:Exposition avicole et salon du bien-être
DESCRIPTION:
URL:https://boulay-moselle.fr/event/exposition-avicole-et-salon-du-bien-etre-5/
LOCATION:Complexe Isabelle Wendling\, route de Bouzonville\, BOULAY-MOSELLE\, 57220\, France
CATEGORIES:ville
END:VEVENT
BEGIN:VEVENT
DTSTART;TZID=Europe/Paris:20251015T100000
DTEND;TZID=Europe/Paris:20251015T130000
DTSTAMP:20260422T120055
CREATED:20250924T073726Z
LAST-MODIFIED:20250924T073726Z
UID:10408-1760522400-1760533200@boulay-moselle.fr
SUMMARY:Octobre Rose - Marche DITEP
DESCRIPTION:
URL:https://boulay-moselle.fr/event/octobre-rose-marche-ditep/
LOCATION:DITEP de Boulay
CATEGORIES:ville
END:VEVENT
BEGIN:VEVENT
DTSTART;TZID=Europe/Paris:20251021T090000
DTEND;TZID=Europe/Paris:20251021T110000
DTSTAMP:20260422T120055
CREATED:20251015T114824Z
LAST-MODIFIED:20251015T114824Z
UID:10491-1761037200-1761044400@boulay-moselle.fr
SUMMARY:Réunion pour les propriétaires d'un local commercial inoccupé au centre-ville
DESCRIPTION:📣 Propriétaire d’un local commercial inoccupé en centre-ville de Boulay ? \n📅 Nous vous invitons le 21 octobre prochain à 9h\, en Mairie autour d’un café. \nAu programme : \n👉 Information sur la mise en place du droit de préemption commercial \n👉 Présentation des aides auquel vous êtes éligibles selon vos projets éventuels \n👉 Questions/réponses libres
URL:https://boulay-moselle.fr/event/reunion-pour-les-proprietaires-dun-local-commercial-inoccupe-au-centre-ville/
LOCATION:Hotel de Ville\, place du Dr Julien Schvartz\, BOULAY\, 57220\, France
CATEGORIES:ville
END:VEVENT
BEGIN:VEVENT
DTSTART;TZID=Europe/Paris:20251024T200000
DTEND;TZID=Europe/Paris:20251024T220000
DTSTAMP:20260422T120055
CREATED:20250915T093452Z
LAST-MODIFIED:20250915T093452Z
UID:10324-1761336000-1761343200@boulay-moselle.fr
SUMMARY:Boulay By Night
DESCRIPTION:Découvrez votre ville comme vous ne l’avez jamais vue. Sous la conduite de Robert Bajetti et Joris Matyja\, la ville dévoile ses secrets et ses anecdotes. \nInscription sur : https://boulay-moselle.mapado.com/
URL:https://boulay-moselle.fr/event/boulay-by-night-2/
LOCATION:Parc de la Schanze\, Boulay-Moselle\, 57220\, France
CATEGORIES:ville
END:VEVENT
BEGIN:VEVENT
DTSTART;TZID=Europe/Paris:20251030T180000
DTEND;TZID=Europe/Paris:20251030T220000
DTSTAMP:20260422T120055
CREATED:20250915T094249Z
LAST-MODIFIED:20251022T135419Z
UID:10326-1761847200-1761861600@boulay-moselle.fr
SUMMARY:Escape game : Les mangeurs d'âme
DESCRIPTION:Les Mangeurs d’âmes de Proléania\, damnés du XVIIIe siècle\, errent encore dans les forêts à la recherche de proies… Mais la veille du Jour des Morts\, ils deviennent vulnérables. Un rituel ancien peut les anéantir… à condition de rassembler tous les éléments nécessaires.\n\n\n👉 Serez-vous assez courageux pour tenter l’aventure ?\n\n\n \n\n\n📅 Jeudi 30 octobre 2025\n\n\n📍 Parc de la Schanze\n\n\n \n\n\n👦 Dès 8 ans\n\n\n💰 Tarif : 5 €\n\n\n \n\n\n⏳ Places limitées – réservation obligatoire avant le 15 octobre 2025 sur : https://boulay-moselle.mapado.com/event/614538-escape-game-dhalloween-au-parc-de-la-schanze \n\n\n \n\n\n⚡ Ne laissez pas les esprits l’emporter… préparez votre équipe et plongez dans une aventure frissonnante !\n\n\nEn raison des conditions météorologiques défavorables\, l’événement a été reporté au jeudi 30 octobre.\n 
URL:https://boulay-moselle.fr/event/escape-game-les-mangeurs-dame/
CATEGORIES:ville
END:VEVENT
BEGIN:VEVENT
DTSTART;TZID=Europe/Paris:20251031T163000
DTEND;TZID=Europe/Paris:20251031T190000
DTSTAMP:20260422T120055
CREATED:20250922T083629Z
LAST-MODIFIED:20250922T084015Z
UID:10395-1761928200-1761937200@boulay-moselle.fr
SUMMARY:Fête d'Halloween
DESCRIPTION:
URL:https://boulay-moselle.fr/event/fete-dhalloween-2/
LOCATION:Maison du Département\, 6 rue Robert Schuman\, BOULAY\, 57220\, France
CATEGORIES:ville
END:VEVENT
END:VCALENDAR