BEGIN:VCALENDAR
VERSION:2.0
PRODID:-//Ville de Boulay-Moselle - ECPv6.3.2//NONSGML v1.0//EN
CALSCALE:GREGORIAN
METHOD:PUBLISH
X-ORIGINAL-URL:https://boulay-moselle.fr
X-WR-CALDESC:évènements pour Ville de Boulay-Moselle
REFRESH-INTERVAL;VALUE=DURATION:PT1H
X-Robots-Tag:noindex
X-PUBLISHED-TTL:PT1H
BEGIN:VTIMEZONE
TZID:Europe/Paris
BEGIN:DAYLIGHT
TZOFFSETFROM:+0100
TZOFFSETTO:+0200
TZNAME:CEST
DTSTART:20250330T010000
END:DAYLIGHT
BEGIN:STANDARD
TZOFFSETFROM:+0200
TZOFFSETTO:+0100
TZNAME:CET
DTSTART:20251026T010000
END:STANDARD
END:VTIMEZONE
BEGIN:VEVENT
DTSTART;TZID=Europe/Paris:20251203T083000
DTEND;TZID=Europe/Paris:20251203T190000
DTSTAMP:20260422T161321
CREATED:20251112T085443Z
LAST-MODIFIED:20251112T085601Z
UID:10538-1764750600-1764788400@boulay-moselle.fr
SUMMARY:Permanence sacs multiflux
DESCRIPTION:
URL:https://boulay-moselle.fr/event/permanence-sacs-multiflux/
LOCATION:Complexe Isabelle Wendling\, route de Bouzonville\, BOULAY-MOSELLE\, 57220\, France
CATEGORIES:ville
END:VEVENT
BEGIN:VEVENT
DTSTART;TZID=Europe/Paris:20251204T083000
DTEND;TZID=Europe/Paris:20251204T190000
DTSTAMP:20260422T161321
CREATED:20251112T085516Z
LAST-MODIFIED:20251112T085542Z
UID:10540-1764837000-1764874800@boulay-moselle.fr
SUMMARY:Permanence sacs multiflux
DESCRIPTION:
URL:https://boulay-moselle.fr/event/permanence-sacs-multiflux-2/
LOCATION:Complexe Isabelle Wendling\, route de Bouzonville\, BOULAY-MOSELLE\, 57220\, France
CATEGORIES:ville
END:VEVENT
BEGIN:VEVENT
DTSTART;VALUE=DATE:20251205
DTEND;VALUE=DATE:20251206
DTSTAMP:20260422T161321
CREATED:20251112T131935Z
LAST-MODIFIED:20251112T131935Z
UID:10556-1764892800-1764979199@boulay-moselle.fr
SUMMARY:Téléthon
DESCRIPTION:
URL:https://boulay-moselle.fr/event/telethon-4/
CATEGORIES:ville
END:VEVENT
BEGIN:VEVENT
DTSTART;TZID=Europe/Paris:20251206T090000
DTEND;TZID=Europe/Paris:20251206T170000
DTSTAMP:20260422T161321
CREATED:20251112T132026Z
LAST-MODIFIED:20251112T132224Z
UID:10558-1765011600-1765040400@boulay-moselle.fr
SUMMARY:Téléthon
DESCRIPTION:
URL:https://boulay-moselle.fr/event/telethon-5/
CATEGORIES:ville
END:VEVENT
BEGIN:VEVENT
DTSTART;TZID=Europe/Paris:20251206T110000
DTEND;TZID=Europe/Paris:20251206T190000
DTSTAMP:20260422T161321
CREATED:20251114T145124Z
LAST-MODIFIED:20251114T145124Z
UID:10579-1765018800-1765047600@boulay-moselle.fr
SUMMARY:Marché de Noël
DESCRIPTION:
URL:https://boulay-moselle.fr/event/marche-de-noel-15/
LOCATION:Parc de la Schanze\, Boulay-Moselle\, 57220\, France
CATEGORIES:ville
END:VEVENT
BEGIN:VEVENT
DTSTART;TZID=Europe/Paris:20251207T110000
DTEND;TZID=Europe/Paris:20251207T173000
DTSTAMP:20260422T161321
CREATED:20251114T145015Z
LAST-MODIFIED:20251114T145015Z
UID:10575-1765105200-1765128600@boulay-moselle.fr
SUMMARY:Marché de Noël
DESCRIPTION:
URL:https://boulay-moselle.fr/event/marche-de-noel-13/
LOCATION:Parc de la Schanze\, Boulay-Moselle\, 57220\, France
CATEGORIES:ville
END:VEVENT
BEGIN:VEVENT
DTSTART;TZID=Europe/Paris:20251207T143000
DTEND;TZID=Europe/Paris:20251207T160000
DTSTAMP:20260422T161321
CREATED:20251112T133943Z
LAST-MODIFIED:20251112T133943Z
UID:10564-1765117800-1765123200@boulay-moselle.fr
SUMMARY:Défilé de Saint-Nicolas
DESCRIPTION:
URL:https://boulay-moselle.fr/event/defile-de-saint-nicolas-5/
CATEGORIES:ville
END:VEVENT
BEGIN:VEVENT
DTSTART;TZID=Europe/Paris:20251210T140000
DTEND;TZID=Europe/Paris:20251210T160000
DTSTAMP:20260422T161321
CREATED:20251126T174024Z
LAST-MODIFIED:20251126T174024Z
UID:10599-1765375200-1765382400@boulay-moselle.fr
SUMMARY:Fête de Noël
DESCRIPTION:
URL:https://boulay-moselle.fr/event/fete-de-noel-3/
LOCATION:Maison du Département\, 6 rue Robert Schuman\, BOULAY\, 57220\, France
CATEGORIES:ville
END:VEVENT
BEGIN:VEVENT
DTSTART;TZID=Europe/Paris:20251213T110000
DTEND;TZID=Europe/Paris:20251213T190000
DTSTAMP:20260422T161321
CREATED:20251114T145046Z
LAST-MODIFIED:20251114T145046Z
UID:10577-1765623600-1765652400@boulay-moselle.fr
SUMMARY:Marché de Noël
DESCRIPTION:
URL:https://boulay-moselle.fr/event/marche-de-noel-14/
LOCATION:Parc de la Schanze\, Boulay-Moselle\, 57220\, France
CATEGORIES:ville
END:VEVENT
BEGIN:VEVENT
DTSTART;TZID=Europe/Paris:20251214T110000
DTEND;TZID=Europe/Paris:20251214T173000
DTSTAMP:20260422T161321
CREATED:20240923T065723Z
LAST-MODIFIED:20251114T144948Z
UID:9160-1765710000-1765733400@boulay-moselle.fr
SUMMARY:Marché de Noël
DESCRIPTION:
URL:https://boulay-moselle.fr/event/marche-de-noel-12/
LOCATION:Parc de la Schanze\, Boulay-Moselle\, 57220\, France
CATEGORIES:ville
END:VEVENT
END:VCALENDAR