BEGIN:VCALENDAR
VERSION:2.0
PRODID:-//Ville de Boulay-Moselle - ECPv6.3.2//NONSGML v1.0//EN
CALSCALE:GREGORIAN
METHOD:PUBLISH
X-WR-CALNAME:Ville de Boulay-Moselle
X-ORIGINAL-URL:https://boulay-moselle.fr
X-WR-CALDESC:évènements pour Ville de Boulay-Moselle
REFRESH-INTERVAL;VALUE=DURATION:PT1H
X-Robots-Tag:noindex
X-PUBLISHED-TTL:PT1H
BEGIN:VTIMEZONE
TZID:Europe/Paris
BEGIN:DAYLIGHT
TZOFFSETFROM:+0100
TZOFFSETTO:+0200
TZNAME:CEST
DTSTART:20260329T010000
END:DAYLIGHT
BEGIN:STANDARD
TZOFFSETFROM:+0200
TZOFFSETTO:+0100
TZNAME:CET
DTSTART:20261025T010000
END:STANDARD
END:VTIMEZONE
BEGIN:VEVENT
DTSTART;TZID=Europe/Paris:20260112T150000
DTEND;TZID=Europe/Paris:20260112T190000
DTSTAMP:20260422T175443
CREATED:20251216T125529Z
LAST-MODIFIED:20251216T125529Z
UID:10633-1768230000-1768244400@boulay-moselle.fr
SUMMARY:Don de sang
DESCRIPTION:
URL:https://boulay-moselle.fr/event/don-de-sang-12/
LOCATION:Salle des fêtes – Complexe Isabelle Wendling\, route de bouzonville\, boulay-moselle\, 57220\, France
CATEGORIES:ville
END:VEVENT
BEGIN:VEVENT
DTSTART;TZID=Europe/Paris:20260118T140000
DTEND;TZID=Europe/Paris:20260118T160000
DTSTAMP:20260422T175443
CREATED:20260108T125642Z
LAST-MODIFIED:20260108T131339Z
UID:10466-1768744800-1768752000@boulay-moselle.fr
SUMMARY:Grand Loto
DESCRIPTION:
URL:https://boulay-moselle.fr/event/grand-loto-3/
LOCATION:Salle des fêtes – Complexe Isabelle Wendling\, route de bouzonville\, boulay-moselle\, 57220\, France
CATEGORIES:ville
END:VEVENT
BEGIN:VEVENT
DTSTART;TZID=Europe/Paris:20260118T150000
DTEND;TZID=Europe/Paris:20260118T170000
DTSTAMP:20260422T175443
CREATED:20250915T094508Z
LAST-MODIFIED:20251217T141705Z
UID:10328-1768748400-1768755600@boulay-moselle.fr
SUMMARY:Apér'Histoire
DESCRIPTION:André Lozano nous raconte le crime dans l’humanité comme son double obscur. L’art en est la transfiguration symbolique. Tous deux dévoilent les fractures d’une époque. \nInscriptions sur : https://boulay-moselle.mapado.com/ \n \n 
URL:https://boulay-moselle.fr/event/aperhistoire/
CATEGORIES:ville
END:VEVENT
BEGIN:VEVENT
DTSTART;TZID=Europe/Paris:20260124T193000
DTEND;TZID=Europe/Paris:20260124T213000
DTSTAMP:20260422T175443
CREATED:20260108T131456Z
LAST-MODIFIED:20260108T131456Z
UID:10677-1769283000-1769290200@boulay-moselle.fr
SUMMARY:Soirée théâtre
DESCRIPTION:
URL:https://boulay-moselle.fr/event/soiree-theatre-2/
LOCATION:Salle St-Etienne\, Place Jean XXIII\, BOULAY\, 57220\, France
CATEGORIES:ville
END:VEVENT
BEGIN:VEVENT
DTSTART;TZID=Europe/Paris:20260125T150000
DTEND;TZID=Europe/Paris:20260125T170000
DTSTAMP:20260422T175443
CREATED:20260114T143239Z
LAST-MODIFIED:20260114T144018Z
UID:10726-1769353200-1769360400@boulay-moselle.fr
SUMMARY:Concert gospel
DESCRIPTION:
URL:https://boulay-moselle.fr/event/concert-gospel/
LOCATION:Eglise Saint-Etienne\, rue Jean XXIII\, boulay-moselle\, 57220\, France
CATEGORIES:ville
END:VEVENT
BEGIN:VEVENT
DTSTART;TZID=Europe/Paris:20260125T150000
DTEND;TZID=Europe/Paris:20260125T180000
DTSTAMP:20260422T175443
CREATED:20260113T132146Z
LAST-MODIFIED:20260113T132146Z
UID:10716-1769353200-1769364000@boulay-moselle.fr
SUMMARY:Après-midi parta'jeux
DESCRIPTION:
URL:https://boulay-moselle.fr/event/apres-midi-partajeux/
LOCATION:Salle des fêtes – Complexe Isabelle Wendling\, route de bouzonville\, boulay-moselle\, 57220\, France
CATEGORIES:ville
END:VEVENT
END:VCALENDAR