BEGIN:VCALENDAR
VERSION:2.0
PRODID:-//Ville de Boulay-Moselle - ECPv6.3.2//NONSGML v1.0//EN
CALSCALE:GREGORIAN
METHOD:PUBLISH
X-ORIGINAL-URL:https://boulay-moselle.fr
X-WR-CALDESC:évènements pour Ville de Boulay-Moselle
REFRESH-INTERVAL;VALUE=DURATION:PT1H
X-Robots-Tag:noindex
X-PUBLISHED-TTL:PT1H
BEGIN:VTIMEZONE
TZID:Europe/Paris
BEGIN:DAYLIGHT
TZOFFSETFROM:+0100
TZOFFSETTO:+0200
TZNAME:CEST
DTSTART:20260329T010000
END:DAYLIGHT
BEGIN:STANDARD
TZOFFSETFROM:+0200
TZOFFSETTO:+0100
TZNAME:CET
DTSTART:20261025T010000
END:STANDARD
END:VTIMEZONE
BEGIN:VEVENT
DTSTART;TZID=Europe/Paris:20260307T201500
DTEND;TZID=Europe/Paris:20260307T213000
DTSTAMP:20260422T133950
CREATED:20260227T070729Z
LAST-MODIFIED:20260227T070729Z
UID:10879-1772914500-1772919000@boulay-moselle.fr
SUMMARY:Théâtre
DESCRIPTION:
URL:https://boulay-moselle.fr/event/theatre-5/
LOCATION:Salle St-Etienne\, Place Jean XXIII\, BOULAY\, 57220\, France
CATEGORIES:ville
END:VEVENT
BEGIN:VEVENT
DTSTART;TZID=Europe/Paris:20260313T093000
DTEND;TZID=Europe/Paris:20260313T120000
DTSTAMP:20260422T133950
CREATED:20260216T074806Z
LAST-MODIFIED:20260216T085944Z
UID:10842-1773394200-1773403200@boulay-moselle.fr
SUMMARY:Conférence
DESCRIPTION:
URL:https://boulay-moselle.fr/event/conference-4/
LOCATION:collège Demange
CATEGORIES:ville
END:VEVENT
BEGIN:VEVENT
DTSTART;TZID=Europe/Paris:20260314T090000
DTEND;TZID=Europe/Paris:20260314T153000
DTSTAMP:20260422T133950
CREATED:20260209T081031Z
LAST-MODIFIED:20260209T081031Z
UID:10821-1773478800-1773502200@boulay-moselle.fr
SUMMARY:Journée Portes Ouvertes - LPI
DESCRIPTION:
URL:https://boulay-moselle.fr/event/journee-portes-ouvertes-lpi/
LOCATION:Lycée Professionnel Inter-entreprises\, rue Robert Schumann\, BOULAY\, 57220\, France
CATEGORIES:ville
ORGANIZER;CN="Lyc%C3%A9e Professionnel Interentreprises":MAILTO:accueil@lp-interentreprises.com
END:VEVENT
BEGIN:VEVENT
DTSTART;TZID=Europe/Paris:20260316T150000
DTEND;TZID=Europe/Paris:20260316T190000
DTSTAMP:20260422T133951
CREATED:20260218T122006Z
LAST-MODIFIED:20260218T122006Z
UID:10857-1773673200-1773687600@boulay-moselle.fr
SUMMARY:Don de sang
DESCRIPTION:
URL:https://boulay-moselle.fr/event/don-de-sang-13/
LOCATION:Salle des fêtes – Complexe Isabelle Wendling\, route de bouzonville\, boulay-moselle\, 57220\, France
CATEGORIES:ville
END:VEVENT
BEGIN:VEVENT
DTSTART;TZID=Europe/Paris:20260328T193000
DTEND;TZID=Europe/Paris:20260328T213000
DTSTAMP:20260422T133951
CREATED:20250915T095051Z
LAST-MODIFIED:20260216T103524Z
UID:10334-1774726200-1774733400@boulay-moselle.fr
SUMMARY:Les Voix d'Or
DESCRIPTION:Appel à candidatures chanteurs en herbe ! \nVous aimez chanter ? Vous avez une voix qui mérite d’être entendue ? \nInscrivez-vous dès maintenant à la 5ème édition du concours de chant  » Les Voix d’Or  » organisée par la Ville de Boulay-Moselle le samedi 28 mars à 20h ! \n2 catégories : \n\nEnfants (moins de 16 ans)\nAdultes (16 ans et plus)\n\n2 prix à gagner dans chacune des catégories : \n\nPrix « Voix d’Or » : une session d’enregistrement dans un studio professionnel\nPrix « Coup de Cœur de la Ville » une séance photo chez un professionnel\n\nCandidatures avant le 18 mars (dernier délai) \nContact et inscriptions : culture@boulay-moselle.fr – 06 33 30 10 96 \n \n 
URL:https://boulay-moselle.fr/event/les-voix-dor-2/
CATEGORIES:ville
END:VEVENT
END:VCALENDAR